BEGIN_USGS_DOQ_HEADER *
QUADRANGLE_NAME "MOULTON WEIR" *
QUADRANT SW *
WEST_LONGITUDE -122 7 30.0 *
EAST_LONGITUDE -122 3 45.0 *
NORTH_LATITUDE 39 18 45.0 *
SOUTH_LATITUDE 39 15 0.0 *
PRODUCTION_DATE 2001 3 19 *
RASTER_ORDER LEFT_RIGHT/TOP_BOTTOM *
BAND_ORGANIZATION "SINGLE FILE" *
BAND_CONTENT BLACK&WHITE *
BITS_PER_PIXEL 8 *
SAMPLES_AND_LINES 6161 7611 *
HORIZONTAL_DATUM NAD83 *
HORIZONTAL_COORDINATE_SYSTEM UTM *
COORDINATE_ZONE 10 *
HORIZONTAL_UNITS METERS *
HORIZONTAL_RESOLUTION 1.0 *
SECONDARY_HORIZONTAL_DATUM NAD27 *
XY_ORIGIN 575040.000 4352180.000 *
SECONDARY_XY_ORIGIN 575135.595 4351984.800 *
NATION US *
STATE CA *
NW_QUAD_CORNER_XY 575433.954 4351820.916 *
NE_QUAD_CORNER_XY 580822.186 4351874.916 *
SE_QUAD_CORNER_XY 580894.048 4344938.702 *
SW_QUAD_CORNER_XY 575501.024 4344884.726 *
SECONDARY_NW_QUAD_XY 575435.902 4351612.291 *
SECONDARY_NE_QUAD_XY 580824.274 4351666.292 *
SECONDARY_SE_QUAD_XY 580896.135 4344730.211 *
SECONDARY_SW_QUAD_XY 575502.971 4344676.234 *
RMSE_XY 0.708 *
IMAGE_SOURCE "Black and White film" *
SOURCE_IMAGE_ID "NAPP 10529-45" *
SOURCE_IMAGE_DATE 1998 08 25 *
SOURCE_DEM_DATE 1973 00 00 *
AGENCY "WESTERN MAPPING CENTER (WMC)" *
PRODUCER "Hammon, Jensen, Wallen & Associates" *
PRODUCTION_SYSTEM "ORTHOVIEW" *
STANDARD_VERSION 1996 12 *
METADATA_DATE 2001 3 19 *
DATA_FILE_SIZE 46897532 *
BYTE_COUNT 6161 * * * * * * * * * * * * * * * * * * * * * * * * * * * * * * * * * *
END_USGS_HEADER *
