BEGIN_USGS_DOQ_HEADER *
QUADRANGLE_NAME "LODOGA" 3.45 or 7.5-min. name*
QUADRANT NW quadrant indicator if cell size = 3.75-minutes*
WEST_LONGITUDE -122 30 0.000 signed deg min sec SDDD MM SS.SSS*
EAST_LONGITUDE -122 26 15.000 signed deg min sec SDDD MM SS.SSS*
NORTH_LATITUDE 39 22 30.000 signed deg min sec SDDD MM SS.SSS*
SOUTH_LATITUDE 39 18 45.000 signed deg min sec SDDD MM SS.SSS*
PRODUCTION_DATE 1997 8 29 yyyy mm dd*
RASTER_ORDER LEFT_RIGHT/TOP_BOTTOM video display order*
BAND_ORGANIZATION "SINGLE FILE" single file or BSQ, or BIL or BIP*
BAND_CONTENT BLACK&WHITE black&white or red green blue*
BITS_PER_PIXEL 8 radiometric resolution*
SAMPLES_AND_LINES 6125 7584 number of columns and rows*
HORIZONTAL_DATUM NAD83 primary horizontal datum*
HORIZONTAL_COORDINATE_SYSTEM UTM *
COORDINATE_ZONE 10 coordinate system zone number*
HORIZONTAL_UNITS METERS coordinate system units*
HORIZONTAL_RESOLUTION 1.00 pixel horiz. ground sample distance*
SECONDARY_HORIZONTAL_DATUM NAD27 secondary horizontal datum*
XY_ORIGIN 542670.000 4358843.000 coord. of upper left pixel pri. datum*
SECONDARY_XY_ORIGIN 542765.670 4358647.610 coord upper left pixel sec datum*
NATION US nation code*
STATE CA state fip code*
NW_QUAD_CORNER_XY 543066.520 4358511.290 XY coords. of pri. NW quad corner*
NE_QUAD_CORNER_XY 548449.860 4358542.960 XY coords. of pri. NE quad corner*
SE_QUAD_CORNER_XY 548493.040 4351606.790 XY coords. of pri. SE quad corner*
SW_QUAD_CORNER_XY 543104.890 4351575.140 XY coords. of pri. SW quad corner*
SECONDARY_NW_QUAD_XY 543067.630 4358302.530 XY coords. - sec. NW quad cor.*
SECONDARY_NE_QUAD_XY 548451.120 4358334.200 XY coords. - sec. NE quad cor.*
SECONDARY_SE_QUAD_XY 548494.290 4351398.160 XY coords. - sec. SE quad cor.*
SECONDARY_SW_QUAD_XY 543106.000 4351366.500 XY coords. - sec. SW quad cor.*
RMSE_XY 3.00 doq horiz. accuracy*
IMAGE_SOURCE "BLACK AND WHITE FILM" b&w, cir, natural color, other*
SOURCE_IMAGE_ID "NAPP 6360 118" source image id*
SOURCE_IMAGE_DATE 1993 7 10 source image date as yyyy mm dd*
SOURCE_DEM_DATE 1997 8 29 source dem date yyyy mm dd*
AGENCY "WESTERN MAPPING CENTER (WMC)" oversight agency*
PRODUCER "Science Applications International" producer/contractor*
PRODUCTION_SYSTEM "GIS/MAGIC" production system*
STANDARD_VERSION 1996 12 version of DOQ standard*
METADATA_DATE 1997 12 17 date created or changed, yyyy mm dd*
DATA_FILE_SIZE 46458125 data set size in bytes*
BYTE_COUNT 6125 header byte count* * * * * * * * * * * * * * * * * * * * * * * * * * * * * * * * * *
END_USGS_HEADER *
