BEGIN_USGS_DOQ_HEADER *
QUADRANGLE_NAME "LOGANDALE" *
QUADRANT NE *
WEST_LONGITUDE -122 11 15.0 *
EAST_LONGITUDE -122 7 30.0 *
NORTH_LATITUDE 39 30 0.0 *
SOUTH_LATITUDE 39 26 15.0 *
PRODUCTION_DATE 2001 3 19 *
RASTER_ORDER LEFT_RIGHT/TOP_BOTTOM *
BAND_ORGANIZATION "SINGLE FILE" *
BAND_CONTENT BLACK&WHITE *
BITS_PER_PIXEL 8 *
SAMPLES_AND_LINES 6141 7611 *
HORIZONTAL_DATUM NAD83 *
HORIZONTAL_COORDINATE_SYSTEM UTM *
COORDINATE_ZONE 10 *
HORIZONTAL_UNITS METERS *
HORIZONTAL_RESOLUTION 1.0 *
SECONDARY_HORIZONTAL_DATUM NAD27 *
XY_ORIGIN 569460.000 4372930.000 *
SECONDARY_XY_ORIGIN 569555.638 4372734.880 *
NATION US *
STATE CA *
NW_QUAD_CORNER_XY 569858.401 4372579.584 *
NE_QUAD_CORNER_XY 575232.202 4372629.925 *
SE_QUAD_CORNER_XY 575299.542 4365693.516 *
SW_QUAD_CORNER_XY 569920.931 4365643.197 *
SECONDARY_NW_QUAD_XY 569860.214 4372370.565 *
SECONDARY_NE_QUAD_XY 575234.154 4372420.907 *
SECONDARY_SE_QUAD_XY 575301.493 4365484.628 *
SECONDARY_SW_QUAD_XY 569922.742 4365434.308 *
RMSE_XY 0.415 *
IMAGE_SOURCE "Black and White film" *
SOURCE_IMAGE_ID "NAPP 10529-110" *
SOURCE_IMAGE_DATE 1998 08 25 *
SOURCE_DEM_DATE 1973 00 00 *
AGENCY "WESTERN MAPPING CENTER (WMC)" *
PRODUCER "Hammon, Jensen, Wallen & Associates" *
PRODUCTION_SYSTEM "ORTHOVIEW" *
STANDARD_VERSION 1996 12 *
METADATA_DATE 2001 3 19 *
DATA_FILE_SIZE 46745292 *
BYTE_COUNT 6141 * * * * * * * * * * * * * * * * * * * * * * * * * * * * * * * * * *
END_USGS_HEADER *
