BEGIN_USGS_DOQ_HEADER *
QUADRANGLE_NAME "LOGAN RIDGE" *
QUADRANT SE *
WEST_LONGITUDE -122 18 45.0 *
EAST_LONGITUDE -122 15 0.0 *
NORTH_LATITUDE 39 26 15.0 *
SOUTH_LATITUDE 39 22 30.0 *
PRODUCTION_DATE 2001 3 19 *
RASTER_ORDER LEFT_RIGHT/TOP_BOTTOM *
BAND_ORGANIZATION "SINGLE FILE" *
BAND_CONTENT BLACK&WHITE *
BITS_PER_PIXEL 8 *
SAMPLES_AND_LINES 6141 7601 *
HORIZONTAL_DATUM NAD83 *
HORIZONTAL_COORDINATE_SYSTEM UTM *
COORDINATE_ZONE 10 *
HORIZONTAL_UNITS METERS *
HORIZONTAL_RESOLUTION 1.0 *
SECONDARY_HORIZONTAL_DATUM NAD27 *
XY_ORIGIN 558760.000 4365900.000 *
SECONDARY_XY_ORIGIN 558855.652 4365704.793 *
NATION US *
STATE CA *
NW_QUAD_CORNER_XY 559163.754 4365553.743 *
NE_QUAD_CORNER_XY 564542.335 4365596.606 *
SE_QUAD_CORNER_XY 564599.977 4358660.312 *
SW_QUAD_CORNER_XY 559216.592 4358617.468 *
SECONDARY_NW_QUAD_XY 559165.287 4365344.852 *
SECONDARY_NE_QUAD_XY 564544.007 4365387.716 *
SECONDARY_SE_QUAD_XY 564601.648 4358451.553 *
SECONDARY_SW_QUAD_XY 559218.124 4358408.708 *
RMSE_XY 0.608 *
IMAGE_SOURCE "Black and White film" *
SOURCE_IMAGE_ID "NAPP 10529-174" *
SOURCE_IMAGE_DATE 1998 08 25 *
SOURCE_DEM_DATE 1973 00 00 *
AGENCY "WESTERN MAPPING CENTER (WMC)" *
PRODUCER "Hammon, Jensen, Wallen & Associates" *
PRODUCTION_SYSTEM "ORTHOVIEW" *
STANDARD_VERSION 1996 12 *
METADATA_DATE 2001 3 19 *
DATA_FILE_SIZE 46683882 *
BYTE_COUNT 6141 * * * * * * * * * * * * * * * * * * * * * * * * * * * * * * * * * *
END_USGS_HEADER *
