BEGIN_USGS_DOQ_HEADER *
QUADRANGLE_NAME "SAINT JOHN MOUNTAIN" *
QUADRANT NW *
WEST_LONGITUDE -122 45 0.000 *
EAST_LONGITUDE -122 41 15.000 *
NORTH_LATITUDE 39 30 0.000 *
SOUTH_LATITUDE 39 26 15.000 *
PRODUCTION_DATE 2000 11 25 *
RASTER_ORDER LEFT_RIGHT/TOP_BOTTOM *
BAND_ORGANIZATION "SINGLE FILE" *
BAND_CONTENT BLACK&WHITE *
BITS_PER_PIXEL 8 *
SAMPLES_AND_LINES 6093 7566 *
HORIZONTAL_DATUM NAD83 *
HORIZONTAL_COORDINATE_SYSTEM UTM *
COORDINATE_ZONE 10 *
HORIZONTAL_UNITS METERS *
HORIZONTAL_RESOLUTION 1.0 *
SECONDARY_HORIZONTAL_DATUM NAD27 *
XY_ORIGIN 521100.160 4372611.115 *
SECONDARY_XY_ORIGIN 521195.827 4372415.674 *
NATION US *
STATE CA *
NW_QUAD_CORNER_XY 521494.767 4372294.336 *
NE_QUAD_CORNER_XY 526868.468 4372311.115 *
SE_QUAD_CORNER_XY 526892.516 4365374.843 *
SW_QUAD_CORNER_XY 521514.005 4365358.072 *
SECONDARY_NW_QUAD_XY 521495.327 4372085.309 *
SECONDARY_NE_QUAD_XY 526869.167 4372102.089 *
SECONDARY_SE_QUAD_XY 526893.214 4365165.947 *
SECONDARY_SW_QUAD_XY 521514.565 4365149.175 *
RMSE_XY 0.80 *
IMAGE_SOURCE "BLACK AND WHITE FILM" *
SOURCE_IMAGE_ID "NAPP 10536 21" *
SOURCE_IMAGE_DATE 1998 9 11 *
SOURCE_IMAGE_ID "NAPP 10536 20" *
SOURCE_IMAGE_DATE 1998 9 11 *
SOURCE_IMAGE_ID "NAPP 10536 22" *
SOURCE_IMAGE_DATE 1998 9 11 *
SOURCE_IMAGE_ID "NAPP 10530 196" *
SOURCE_IMAGE_DATE 1998 8 26 *
SOURCE_IMAGE_ID "NAPP 10530 197" *
SOURCE_IMAGE_DATE 1998 8 26 *
SOURCE_IMAGE_ID "NAPP 10476 173" *
SOURCE_IMAGE_DATE 1998 8 11 *
SOURCE_DEM_DATE 2000 0 0 *
AGENCY "WESTERN MAPPING CENTER (WMC)" *
PRODUCER "USDA FS GEOSPATIAL SERVICE AND TECHNOLOGY CENTER" *
PRODUCTION_SYSTEM "ORBIT OR_RECTIFY V.5.2" *
STANDARD_VERSION 1996 12 *
METADATA_DATE 2000 11 25 *
DATA_FILE_SIZE 46105731 *
BYTE_COUNT 6093 * * * * * * * * * * * * * * * * * * * * * * * *
END_USGS_HEADER *
