BEGIN_USGS_DOQ_HEADER *
QUADRANGLE_NAME "CROCKETT PEAK" *
QUADRANT NW *
WEST_LONGITUDE -122 52 30.000 *
EAST_LONGITUDE -122 48 45.000 *
NORTH_LATITUDE 39 30 0.000 *
SOUTH_LATITUDE 39 26 15.000 *
PRODUCTION_DATE 2000 11 25 *
RASTER_ORDER LEFT_RIGHT/TOP_BOTTOM *
BAND_ORGANIZATION "SINGLE FILE" *
BAND_CONTENT BLACK&WHITE *
BITS_PER_PIXEL 8 *
SAMPLES_AND_LINES 6084 7559 *
HORIZONTAL_DATUM NAD83 *
HORIZONTAL_COORDINATE_SYSTEM UTM *
COORDINATE_ZONE 10 *
HORIZONTAL_UNITS METERS *
HORIZONTAL_RESOLUTION 1.0 *
SECONDARY_HORIZONTAL_DATUM NAD27 *
XY_ORIGIN 510351.921 4372581.286 *
SECONDARY_XY_ORIGIN 510447.661 4372385.680 *
NATION US *
STATE CA *
NW_QUAD_CORNER_XY 510747.378 4372271.965 *
NE_QUAD_CORNER_XY 516121.071 4372281.286 *
SE_QUAD_CORNER_XY 516135.499 4365345.027 *
SW_QUAD_CORNER_XY 510756.997 4365335.710 *
SECONDARY_NW_QUAD_XY 510747.660 4372062.937 *
SECONDARY_NE_QUAD_XY 516121.492 4372072.259 *
SECONDARY_SE_QUAD_XY 516135.920 4365136.130 *
SECONDARY_SW_QUAD_XY 510757.279 4365126.812 *
RMSE_XY 0.80 *
IMAGE_SOURCE "BLACK AND WHITE FILM" *
SOURCE_IMAGE_ID "NAPP 10530 174" *
SOURCE_IMAGE_DATE 1998 8 26 *
SOURCE_IMAGE_ID "NAPP 10530 175" *
SOURCE_IMAGE_DATE 1998 8 26 *
SOURCE_IMAGE_ID "NAPP 10530 173" *
SOURCE_IMAGE_DATE 1998 8 26 *
SOURCE_IMAGE_ID "NAPP 10536 3" *
SOURCE_IMAGE_DATE 1998 9 11 *
SOURCE_IMAGE_ID "NAPP 10536 2" *
SOURCE_IMAGE_DATE 1998 9 11 *
SOURCE_IMAGE_ID "NAPP 10536 1" *
SOURCE_IMAGE_DATE 1998 9 11 *
SOURCE_DEM_DATE 2000 0 0 *
AGENCY "WESTERN MAPPING CENTER (WMC)" *
PRODUCER "USDA FS GEOSPATIAL SERVICE AND TECHNOLOGY CENTER" *
PRODUCTION_SYSTEM "ORBIT OR_RECTIFY V.5.2" *
STANDARD_VERSION 1996 12 *
METADATA_DATE 2000 11 25 *
DATA_FILE_SIZE 45995040 *
BYTE_COUNT 6084 * * * * * * * * * * * * * * * * * * * * * * * *
END_USGS_HEADER *
