BEGIN_USGS_DOQ_HEADER *
QUADRANGLE_NAME "LAKE PILLSBURY" *
QUADRANT NW *
WEST_LONGITUDE -123 0 0.000 *
EAST_LONGITUDE -122 56 15.000 *
NORTH_LATITUDE 39 30 0.000 *
SOUTH_LATITUDE 39 26 15.000 *
PRODUCTION_DATE 2000 11 25 *
RASTER_ORDER LEFT_RIGHT/TOP_BOTTOM *
BAND_ORGANIZATION "SINGLE FILE" *
BAND_CONTENT BLACK&WHITE *
BITS_PER_PIXEL 8 *
SAMPLES_AND_LINES 6074 7551 *
HORIZONTAL_DATUM NAD83 *
HORIZONTAL_COORDINATE_SYSTEM UTM *
COORDINATE_ZONE 10 *
HORIZONTAL_UNITS METERS *
HORIZONTAL_RESOLUTION 1.0 *
SECONDARY_HORIZONTAL_DATUM NAD27 *
XY_ORIGIN 499604.191 4372565.872 *
SECONDARY_XY_ORIGIN 499700.001 4372370.100 *
NATION US *
STATE CA *
NW_QUAD_CORNER_XY 500000.000 4372264.508 *
NE_QUAD_CORNER_XY 505373.689 4372266.372 *
SE_QUAD_CORNER_XY 505378.498 4365330.119 *
SW_QUAD_CORNER_XY 500000.000 4365328.256 *
SECONDARY_NW_QUAD_XY 500000.002 4372055.480 *
SECONDARY_NE_QUAD_XY 505373.831 4372057.344 *
SECONDARY_SE_QUAD_XY 505378.640 4365121.222 *
SECONDARY_SW_QUAD_XY 500000.003 4365119.358 *
RMSE_XY 0.80 *
IMAGE_SOURCE "BLACK AND WHITE FILM" *
SOURCE_IMAGE_ID "NAPP 10530 68" *
SOURCE_IMAGE_DATE 1998 8 26 *
SOURCE_IMAGE_ID "NAPP 10530 69" *
SOURCE_IMAGE_DATE 1998 8 26 *
SOURCE_IMAGE_ID "NAPP 10530 67" *
SOURCE_IMAGE_DATE 1998 8 26 *
SOURCE_IMAGE_ID "NAPP 10530 157" *
SOURCE_IMAGE_DATE 1998 8 26 *
SOURCE_IMAGE_ID "NAPP 10530 156" *
SOURCE_IMAGE_DATE 1998 8 26 *
SOURCE_IMAGE_ID "NAPP 10530 155" *
SOURCE_IMAGE_DATE 1998 8 26 *
SOURCE_DEM_DATE 2000 0 0 *
AGENCY "WESTERN MAPPING CENTER (WMC)" *
PRODUCER "USDA FS GEOSPATIAL SERVICE AND TECHNOLOGY CENTER" *
PRODUCTION_SYSTEM "ORBIT OR_RECTIFY V.5.2" *
STANDARD_VERSION 1996 12 *
METADATA_DATE 2000 11 25 *
DATA_FILE_SIZE 45870848 *
BYTE_COUNT 6074 * * * * * * * * * * * * * * * * * * * * * * *
END_USGS_HEADER *
