BEGIN_USGS_DOQ_HEADER *
QUADRANGLE_NAME "GLENN" *
QUADRANT NE *
WEST_LONGITUDE -122 3 45.0 *
EAST_LONGITUDE -122 0 0.0 *
NORTH_LATITUDE 39 37 30.0 *
SOUTH_LATITUDE 39 33 45.0 *
PRODUCTION_DATE 2001 3 18 *
RASTER_ORDER LEFT_RIGHT/TOP_BOTTOM *
BAND_ORGANIZATION "SINGLE FILE" *
BAND_CONTENT BLACK&WHITE *
BITS_PER_PIXEL 8 *
SAMPLES_AND_LINES 6151 7621 *
HORIZONTAL_DATUM NAD83 *
HORIZONTAL_COORDINATE_SYSTEM UTM *
COORDINATE_ZONE 10 *
HORIZONTAL_UNITS METERS *
HORIZONTAL_RESOLUTION 1.0 *
SECONDARY_HORIZONTAL_DATUM NAD27 *
XY_ORIGIN 580060.000 4386920.000 *
SECONDARY_XY_ORIGIN 580155.579 4386724.733 *
NATION US *
STATE CA *
NW_QUAD_CORNER_XY 580461.428 4386557.078 *
NE_QUAD_CORNER_XY 585825.623 4386614.926 *
SE_QUAD_CORNER_XY 585902.791 4379678.324 *
SW_QUAD_CORNER_XY 580533.772 4379620.500 *
SECONDARY_NW_QUAD_XY 580463.522 4386347.803 *
SECONDARY_NE_QUAD_XY 585827.857 4386405.654 *
SECONDARY_SE_QUAD_XY 585905.024 4379469.180 *
SECONDARY_SW_QUAD_XY 580535.865 4379411.354 *
RMSE_XY 0.591 *
IMAGE_SOURCE "Black and White film" *
SOURCE_IMAGE_ID "NAPP 10475-69" *
SOURCE_IMAGE_DATE 1998 08 11 *
SOURCE_DEM_DATE 1969 00 00 *
AGENCY "WESTERN MAPPING CENTER (WMC)" *
PRODUCER "Hammon, Jensen, Wallen & Associates" *
PRODUCTION_SYSTEM "ORTHOVIEW" *
STANDARD_VERSION 1996 12 *
METADATA_DATE 2001 3 18 *
DATA_FILE_SIZE 46882922 *
BYTE_COUNT 6151 * * * * * * * * * * * * * * * * * * * * * * * * * * * * * * * * * *
END_USGS_HEADER *
