BEGIN_USGS_DOQ_HEADER *
QUADRANGLE_NAME "WILLOWS" *
QUADRANT NW *
WEST_LONGITUDE -122 15 0.0 *
EAST_LONGITUDE -122 11 15.0 *
NORTH_LATITUDE 39 37 30.0 *
SOUTH_LATITUDE 39 33 45.0 *
PRODUCTION_DATE 2001 3 19 *
RASTER_ORDER LEFT_RIGHT/TOP_BOTTOM *
BAND_ORGANIZATION "SINGLE FILE" *
BAND_CONTENT BLACK&WHITE *
BITS_PER_PIXEL 8 *
SAMPLES_AND_LINES 6131 7611 *
HORIZONTAL_DATUM NAD83 *
HORIZONTAL_COORDINATE_SYSTEM UTM *
COORDINATE_ZONE 10 *
HORIZONTAL_UNITS METERS *
HORIZONTAL_RESOLUTION 1.0 *
SECONDARY_HORIZONTAL_DATUM NAD27 *
XY_ORIGIN 563970.000 4386760.000 *
SECONDARY_XY_ORIGIN 564065.687 4386564.734 *
NATION US *
STATE CA *
NW_QUAD_CORNER_XY 564368.947 4386405.929 *
NE_QUAD_CORNER_XY 569733.091 4386452.579 *
SE_QUAD_CORNER_XY 569795.788 4379516.045 *
SW_QUAD_CORNER_XY 564426.820 4379469.415 *
SECONDARY_NW_QUAD_XY 564370.622 4386196.651 *
SECONDARY_NE_QUAD_XY 569734.906 4386243.302 *
SECONDARY_SE_QUAD_XY 569797.602 4379306.897 *
SECONDARY_SW_QUAD_XY 564428.494 4379260.265 *
RMSE_XY 0.495 *
IMAGE_SOURCE "Black and White film" *
SOURCE_IMAGE_ID "NAPP 10484-125" *
SOURCE_IMAGE_DATE 1998 08 21 *
SOURCE_DEM_DATE 1969 00 00 *
AGENCY "WESTERN MAPPING CENTER (WMC)" *
PRODUCER "Hammon, Jensen, Wallen & Associates" *
PRODUCTION_SYSTEM "ORTHOVIEW" *
STANDARD_VERSION 1996 12 *
METADATA_DATE 2001 3 19 *
DATA_FILE_SIZE 46669172 *
BYTE_COUNT 6131 * * * * * * * * * * * * * * * * * * * * * * * * * * * * * * * * * *
END_USGS_HEADER *
