BEGIN_USGS_DOQ_HEADER *
QUADRANGLE_NAME "STONE VALLEY" *
QUADRANT SE *
WEST_LONGITUDE -122 18 45.0 *
EAST_LONGITUDE -122 15 0.0 *
NORTH_LATITUDE 39 33 45.0 *
SOUTH_LATITUDE 39 30 0.0 *
PRODUCTION_DATE 2001 3 19 *
RASTER_ORDER LEFT_RIGHT/TOP_BOTTOM *
BAND_ORGANIZATION "SINGLE FILE" *
BAND_CONTENT BLACK&WHITE *
BITS_PER_PIXEL 8 *
SAMPLES_AND_LINES 6131 7601 *
HORIZONTAL_DATUM NAD83 *
HORIZONTAL_COORDINATE_SYSTEM UTM *
COORDINATE_ZONE 10 *
HORIZONTAL_UNITS METERS *
HORIZONTAL_RESOLUTION 1.0 *
SECONDARY_HORIZONTAL_DATUM NAD27 *
XY_ORIGIN 558660.000 4379770.000 *
SECONDARY_XY_ORIGIN 558755.704 4379574.774 *
NATION US *
STATE CA *
NW_QUAD_CORNER_XY 559057.867 4379426.515 *
NE_QUAD_CORNER_XY 564426.820 4379469.415 *
SE_QUAD_CORNER_XY 564484.616 4372532.974 *
SW_QUAD_CORNER_XY 559110.846 4372490.092 *
SECONDARY_NW_QUAD_XY 559059.402 4379217.364 *
SECONDARY_NE_QUAD_XY 564428.494 4379260.265 *
SECONDARY_SE_QUAD_XY 564486.289 4372323.953 *
SECONDARY_SW_QUAD_XY 559112.380 4372281.071 *
RMSE_XY 0.510 *
IMAGE_SOURCE "Black and White film" *
SOURCE_IMAGE_ID "NAPP 10475-146" *
SOURCE_IMAGE_DATE 1998 08 11 *
SOURCE_DEM_DATE 1969 00 00 *
AGENCY "WESTERN MAPPING CENTER (WMC)" *
PRODUCER "Hammon, Jensen, Wallen & Associates" *
PRODUCTION_SYSTEM "ORTHOVIEW" *
STANDARD_VERSION 1996 12 *
METADATA_DATE 2001 3 19 *
DATA_FILE_SIZE 46607862 *
BYTE_COUNT 6131 * * * * * * * * * * * * * * * * * * * * * * * * * * * * * * * * * *
END_USGS_HEADER *
