BEGIN_USGS_DOQ_HEADER *
QUADRANGLE_NAME "FRUTO" 3.45 or 7.5-min. name*
QUADRANT SW quadrant indicator if cell size = 3.75-minutes*
WEST_LONGITUDE -122 30 0.000 signed deg min sec SDDD MM SS.SSS*
EAST_LONGITUDE -122 26 15.000 signed deg min sec SDDD MM SS.SSS*
NORTH_LATITUDE 39 33 45.000 signed deg min sec SDDD MM SS.SSS*
SOUTH_LATITUDE 39 30 0.000 signed deg min sec SDDD MM SS.SSS*
PRODUCTION_DATE 1997 6 20 yyyy mm dd*
RASTER_ORDER LEFT_RIGHT/TOP_BOTTOM video display order*
BAND_ORGANIZATION "SINGLE FILE" single file or BSQ, or BIL or BIP*
BAND_CONTENT BLACK&WHITE black&white or red green blue*
BITS_PER_PIXEL 8 radiometric resolution*
SAMPLES_AND_LINES 6110 7584 number of columns and rows*
HORIZONTAL_DATUM NAD83 primary horizontal datum*
HORIZONTAL_COORDINATE_SYSTEM UTM *
COORDINATE_ZONE 10 coordinate system zone number*
HORIZONTAL_UNITS METERS coordinate system units*
HORIZONTAL_RESOLUTION 1.00 pixel horiz. ground sample distance*
SECONDARY_HORIZONTAL_DATUM NAD27 secondary horizontal datum*
XY_ORIGIN 542555.000 4379652.000 coord. of upper left pixel pri. datum*
SECONDARY_XY_ORIGIN 542650.764 4379456.673 coord upper left pixel sec datum*
NATION US nation code*
STATE CA state fip code*
NW_QUAD_CORNER_XY 542951.083 4379320.201 XY coords. of pri. NW quad corner*
NE_QUAD_CORNER_XY 548320.000 4379351.908 XY coords. of pri. NE quad corner*
SE_QUAD_CORNER_XY 548363.345 4372415.517 XY coords. of pri. SE quad corner*
SW_QUAD_CORNER_XY 542989.612 4372383.823 XY coords. of pri. SW quad corner*
SECONDARY_NW_QUAD_XY 542952.199 4379111.047 XY coords. - sec. NW quad cor.*
SECONDARY_NE_QUAD_XY 548321.255 4379142.756 XY coords. - sec. NE quad cor.*
SECONDARY_SE_QUAD_XY 548364.600 4372206.494 XY coords. - sec. SE quad cor.*
SECONDARY_SW_QUAD_XY 542990.728 4372174.799 XY coords. - sec. SW quad cor.*
RMSE_XY 3.80 doq horiz. accuracy*
IMAGE_SOURCE "BLACK AND WHITE FILM" b&w, cir, natural color, other*
SOURCE_IMAGE_ID "NAPP 6251 240" source image id*
SOURCE_IMAGE_DATE 1993 6 24 source image date as yyyy mm dd*
SOURCE_DEM_DATE 1997 6 20 source dem date yyyy mm dd*
AGENCY "WESTERN MAPPING CENTER (WMC)" oversight agency*
PRODUCER "Science Applications International" producer/contractor*
PRODUCTION_SYSTEM "GIS/MAGIC" production system*
STANDARD_VERSION 1996 12 version of DOQ standard*
METADATA_DATE 1997 12 17 date created or changed, yyyy mm dd*
DATA_FILE_SIZE 46344350 data set size in bytes*
BYTE_COUNT 6110 header byte count* * * * * * * * * * * * * * * * * * * * * * * * * * * * * * * * * *
END_USGS_HEADER *
