BEGIN_USGS_DOQ_HEADER *
QUADRANGLE_NAME "ELK CREEK" *
QUADRANT SE *
WEST_LONGITUDE -122 33 45.000 *
EAST_LONGITUDE -122 30 0.000 *
NORTH_LATITUDE 39 33 45.000 *
SOUTH_LATITUDE 39 30 0.000 *
PRODUCTION_DATE 2000 11 25 *
RASTER_ORDER LEFT_RIGHT/TOP_BOTTOM *
BAND_ORGANIZATION "SINGLE FILE" *
BAND_CONTENT BLACK&WHITE *
BITS_PER_PIXEL 8 *
SAMPLES_AND_LINES 6102 7578 *
HORIZONTAL_DATUM NAD83 *
HORIZONTAL_COORDINATE_SYSTEM UTM *
COORDINATE_ZONE 10 *
HORIZONTAL_UNITS METERS *
HORIZONTAL_RESOLUTION 1.0 *
SECONDARY_HORIZONTAL_DATUM NAD27 *
XY_ORIGIN 537187.423 4379620.201 *
SECONDARY_XY_ORIGIN 537283.154 4379424.831 *
NATION US *
STATE CA *
NW_QUAD_CORNER_XY 537582.176 4379292.224 *
NE_QUAD_CORNER_XY 542951.083 4379320.201 *
SE_QUAD_CORNER_XY 542989.612 4372383.824 *
SW_QUAD_CORNER_XY 537615.889 4372355.859 *
SECONDARY_NW_QUAD_XY 537583.155 4379083.070 *
SECONDARY_NE_QUAD_XY 542952.201 4379111.048 *
SECONDARY_SE_QUAD_XY 542990.730 4372174.800 *
SECONDARY_SW_QUAD_XY 537616.867 4372146.834 *
RMSE_XY 0.80 *
IMAGE_SOURCE "BLACK AND WHITE FILM" *
SOURCE_IMAGE_ID "NAPP 10476 171" *
SOURCE_IMAGE_DATE 1998 8 11 *
SOURCE_IMAGE_ID "NAPP 10476 172" *
SOURCE_IMAGE_DATE 1998 8 11 *
SOURCE_IMAGE_ID "NAPP 10476 170" *
SOURCE_IMAGE_DATE 1998 8 11 *
SOURCE_IMAGE_ID "NAPP 10476 99" *
SOURCE_IMAGE_DATE 1998 8 11 *
SOURCE_IMAGE_ID "NAPP 10476 100" *
SOURCE_IMAGE_DATE 1998 8 11 *
SOURCE_IMAGE_ID "NAPP 10476 101" *
SOURCE_IMAGE_DATE 1998 8 11 *
SOURCE_DEM_DATE 2000 0 0 *
AGENCY "WESTERN MAPPING CENTER (WMC)" *
PRODUCER "USDA FS GEOSPATIAL SERVICE AND TECHNOLOGY CENTER" *
PRODUCTION_SYSTEM "ORBIT OR_RECTIFY V.5.2" *
STANDARD_VERSION 1996 12 *
METADATA_DATE 2000 11 25 *
DATA_FILE_SIZE 46247058 *
BYTE_COUNT 6102 * * * * * * * * * * * * * * * * * * * * * * * *
END_USGS_HEADER *
