BEGIN_USGS_DOQ_HEADER *
QUADRANGLE_NAME "FELKNER HILL" *
QUADRANT NW *
WEST_LONGITUDE -122 45 0.000 *
EAST_LONGITUDE -122 41 15.000 *
NORTH_LATITUDE 39 37 30.000 *
SOUTH_LATITUDE 39 33 45.000 *
PRODUCTION_DATE 2000 11 25 *
RASTER_ORDER LEFT_RIGHT/TOP_BOTTOM *
BAND_ORGANIZATION "SINGLE FILE" *
BAND_CONTENT BLACK&WHITE *
BITS_PER_PIXEL 8 *
SAMPLES_AND_LINES 6083 7567 *
HORIZONTAL_DATUM NAD83 *
HORIZONTAL_COORDINATE_SYSTEM UTM *
COORDINATE_ZONE 10 *
HORIZONTAL_UNITS METERS *
HORIZONTAL_RESOLUTION 1.0 *
SECONDARY_HORIZONTAL_DATUM NAD27 *
XY_ORIGIN 521061.678 4386483.383 *
SECONDARY_XY_ORIGIN 521157.274 4386287.815 *
NATION US *
STATE CA *
NW_QUAD_CORNER_XY 521456.213 4386167.090 *
NE_QUAD_CORNER_XY 526820.275 4386183.883 *
SE_QUAD_CORNER_XY 526844.387 4379247.462 *
SW_QUAD_CORNER_XY 521475.503 4379230.676 *
SECONDARY_NW_QUAD_XY 521456.774 4385957.806 *
SECONDARY_NE_QUAD_XY 526820.974 4385974.599 *
SECONDARY_SE_QUAD_XY 526845.087 4379038.307 *
SECONDARY_SW_QUAD_XY 521476.063 4379021.520 *
RMSE_XY 0.80 *
IMAGE_SOURCE "BLACK AND WHITE FILM" *
SOURCE_IMAGE_ID "NAPP 10484 102" *
SOURCE_IMAGE_DATE 1998 9 21 *
SOURCE_IMAGE_ID "NAPP 10484 101" *
SOURCE_IMAGE_DATE 1998 9 21 *
SOURCE_IMAGE_ID "NAPP 10484 103" *
SOURCE_IMAGE_DATE 1998 9 21 *
SOURCE_IMAGE_ID "NAPP 10476 175" *
SOURCE_IMAGE_DATE 1998 8 11 *
SOURCE_IMAGE_ID "NAPP 10476 176" *
SOURCE_IMAGE_DATE 1998 8 11 *
SOURCE_IMAGE_ID "NAPP 10476 177" *
SOURCE_IMAGE_DATE 1998 8 11 *
SOURCE_DEM_DATE 2000 0 0 *
AGENCY "WESTERN MAPPING CENTER (WMC)" *
PRODUCER "USDA FS GEOSPATIAL SERVICE AND TECHNOLOGY CENTER" *
PRODUCTION_SYSTEM "ORBIT OR_RECTIFY V.5.2" *
STANDARD_VERSION 1996 12 *
METADATA_DATE 2000 11 25 *
DATA_FILE_SIZE 46036144 *
BYTE_COUNT 6083 * * * * * * * * * * * * * * * * * * * * * * * *
END_USGS_HEADER *
