BEGIN_USGS_DOQ_HEADER *
QUADRANGLE_NAME "FELKNER HILL" *
QUADRANT SE *
WEST_LONGITUDE -122 41 15.000 *
EAST_LONGITUDE -122 37 30.000 *
NORTH_LATITUDE 39 33 45.000 *
SOUTH_LATITUDE 39 30 0.000 *
PRODUCTION_DATE 2000 11 25 *
RASTER_ORDER LEFT_RIGHT/TOP_BOTTOM *
BAND_ORGANIZATION "SINGLE FILE" *
BAND_CONTENT BLACK&WHITE *
BITS_PER_PIXEL 8 *
SAMPLES_AND_LINES 6093 7571 *
HORIZONTAL_DATUM NAD83 *
HORIZONTAL_COORDINATE_SYSTEM UTM *
COORDINATE_ZONE 10 *
HORIZONTAL_UNITS METERS *
HORIZONTAL_RESOLUTION 1.0 *
SECONDARY_HORIZONTAL_DATUM NAD27 *
XY_ORIGIN 526449.922 4379567.478 *
SECONDARY_XY_ORIGIN 526545.583 4379372.020 *
NATION US *
STATE CA *
NW_QUAD_CORNER_XY 526844.387 4379247.462 *
NE_QUAD_CORNER_XY 532213.278 4379267.978 *
SE_QUAD_CORNER_XY 532242.175 4372331.622 *
SW_QUAD_CORNER_XY 526868.468 4372311.115 *
SECONDARY_NW_QUAD_XY 526845.087 4379038.307 *
SECONDARY_NE_QUAD_XY 532214.117 4379058.823 *
SECONDARY_SE_QUAD_XY 532243.013 4372122.597 *
SECONDARY_SW_QUAD_XY 526869.167 4372102.089 *
RMSE_XY 0.80 *
IMAGE_SOURCE "BLACK AND WHITE FILM" *
SOURCE_IMAGE_ID "NAPP 10476 174" *
SOURCE_IMAGE_DATE 1998 8 11 *
SOURCE_IMAGE_ID "NAPP 10476 173" *
SOURCE_IMAGE_DATE 1998 8 11 *
SOURCE_IMAGE_ID "NAPP 10476 175" *
SOURCE_IMAGE_DATE 1998 8 11 *
SOURCE_IMAGE_ID "NAPP 10484 99" *
SOURCE_IMAGE_DATE 1998 9 21 *
SOURCE_IMAGE_ID "NAPP 10484 100" *
SOURCE_IMAGE_DATE 1998 9 21 *
SOURCE_IMAGE_ID "NAPP 10484 101" *
SOURCE_IMAGE_DATE 1998 9 21 *
SOURCE_DEM_DATE 2000 0 0 *
AGENCY "WESTERN MAPPING CENTER (WMC)" *
PRODUCER "USDA FS GEOSPATIAL SERVICE AND TECHNOLOGY CENTER" *
PRODUCTION_SYSTEM "ORBIT OR_RECTIFY V.5.2" *
STANDARD_VERSION 1996 12 *
METADATA_DATE 2000 11 25 *
DATA_FILE_SIZE 46136196 *
BYTE_COUNT 6093 * * * * * * * * * * * * * * * * * * * * * * * *
END_USGS_HEADER *
