BEGIN_USGS_DOQ_HEADER *
QUADRANGLE_NAME "KNEECAP RIDGE" *
QUADRANT NW *
WEST_LONGITUDE -122 52 30.000 *
EAST_LONGITUDE -122 48 45.000 *
NORTH_LATITUDE 39 37 30.000 *
SOUTH_LATITUDE 39 33 45.000 *
PRODUCTION_DATE 2000 11 25 *
RASTER_ORDER LEFT_RIGHT/TOP_BOTTOM *
BAND_ORGANIZATION "SINGLE FILE" *
BAND_CONTENT BLACK&WHITE *
BITS_PER_PIXEL 8 *
SAMPLES_AND_LINES 6074 7559 *
HORIZONTAL_DATUM NAD83 *
HORIZONTAL_COORDINATE_SYSTEM UTM *
COORDINATE_ZONE 10 *
HORIZONTAL_UNITS METERS *
HORIZONTAL_RESOLUTION 1.0 *
SECONDARY_HORIZONTAL_DATUM NAD27 *
XY_ORIGIN 510332.727 4386453.529 *
SECONDARY_XY_ORIGIN 510428.384 4386257.809 *
NATION US *
STATE CA *
NW_QUAD_CORNER_XY 510728.102 4386144.700 *
NE_QUAD_CORNER_XY 516092.155 4386154.029 *
SE_QUAD_CORNER_XY 516106.623 4379217.620 *
SW_QUAD_CORNER_XY 510737.746 4379208.295 *
SECONDARY_NW_QUAD_XY 510728.384 4385935.415 *
SECONDARY_NE_QUAD_XY 516092.577 4385944.744 *
SECONDARY_SE_QUAD_XY 516107.044 4379008.464 *
SECONDARY_SW_QUAD_XY 510738.028 4378999.138 *
RMSE_XY 0.80 *
IMAGE_SOURCE "BLACK AND WHITE FILM" *
SOURCE_IMAGE_ID "NAPP 10484 56" *
SOURCE_IMAGE_DATE 1998 9 21 *
SOURCE_IMAGE_ID "NAPP 10484 55" *
SOURCE_IMAGE_DATE 1998 9 21 *
SOURCE_IMAGE_ID "NAPP 10484 57" *
SOURCE_IMAGE_DATE 1998 9 21 *
SOURCE_IMAGE_ID "NAPP 10484 96" *
SOURCE_IMAGE_DATE 1998 9 21 *
SOURCE_IMAGE_ID "NAPP 10484 95" *
SOURCE_IMAGE_DATE 1998 9 21 *
SOURCE_IMAGE_ID "NAPP 10484 94" *
SOURCE_IMAGE_DATE 1998 9 21 *
SOURCE_DEM_DATE 2000 0 0 *
AGENCY "WESTERN MAPPING CENTER (WMC)" *
PRODUCER "USDA FS GEOSPATIAL SERVICE AND TECHNOLOGY CENTER" *
PRODUCTION_SYSTEM "ORBIT OR_RECTIFY V.5.2" *
STANDARD_VERSION 1996 12 *
METADATA_DATE 2000 11 25 *
DATA_FILE_SIZE 45919440 *
BYTE_COUNT 6074 * * * * * * * * * * * * * * * * * * * * * * *
END_USGS_HEADER *
