BEGIN_USGS_DOQ_HEADER *
QUADRANGLE_NAME "KNEECAP RIDGE" 3.45 or 7.5-min. name*
QUADRANT SE quadrant indicator if cell size = 3.75-minutes*
WEST_LONGITUDE -122 48 45.000 signed deg min sec SDDD MM SS.SSS*
EAST_LONGITUDE -122 45 0.000 signed deg min sec SDDD MM SS.SSS*
NORTH_LATITUDE 39 33 45.000 signed deg min sec SDDD MM SS.SSS*
SOUTH_LATITUDE 39 30 0.000 signed deg min sec SDDD MM SS.SSS*
PRODUCTION_DATE 1996 7 30 yyyy mm dd*
RASTER_ORDER LEFT_RIGHT/TOP_BOTTOM video display order*
BAND_ORGANIZATION "SINGLE FILE" single file or BSQ, or BIL or BIP*
BAND_CONTENT BLACK&WHITE black&white or red green blue*
BITS_PER_PIXEL 8 radiometric resolution*
SAMPLES_AND_LINES 6120 7590 number of columns and rows*
HORIZONTAL_DATUM NAD83 primary horizontal datum*
HORIZONTAL_COORDINATE_SYSTEM UTM *
COORDINATE_ZONE 10 coordinate system zone number*
HORIZONTAL_UNITS METERS coordinate system units*
HORIZONTAL_RESOLUTION 1.00 pixel horiz. ground sample distance*
SECONDARY_HORIZONTAL_DATUM NAD27 secondary horizontal datum*
XY_ORIGIN 515700.000 4379550.000 coord. of upper left pixel pri. datum*
SECONDARY_XY_ORIGIN 515795.651 4379354.437 coord upper left pixel sec datum*
NATION US nation code*
STATE CA state fip code*
NW_QUAD_CORNER_XY 516106.623 4379217.620 XY coords. of pri. NW quad corner*
NE_QUAD_CORNER_XY 521475.503 4379230.676 XY coords. of pri. NE quad corner*
SE_QUAD_CORNER_XY 521494.767 4372294.336 XY coords. of pri. SE quad corner*
SW_QUAD_CORNER_XY 516121.071 4372281.286 XY coords. of pri. SW quad corner*
SECONDARY_NW_QUAD_XY 516107.041 4379008.464 XY coords. - sec. NW quad cor.*
SECONDARY_NE_QUAD_XY 521476.061 4379021.520 XY coords. - sec. NE quad cor.*
SECONDARY_SE_QUAD_XY 521495.324 4372085.310 XY coords. - sec. SE quad cor.*
SECONDARY_SW_QUAD_XY 516121.489 4372072.260 XY coords. - sec. SW quad cor.*
RMSE_XY 4.20 doq horiz. accuracy*
IMAGE_SOURCE "BLACK AND WHITE FILM" b&w, cir, natural color, other*
SOURCE_IMAGE_ID "NAPP 6255 216" source image id*
SOURCE_IMAGE_DATE 1993 8 26 source image date as yyyy mm dd*
SOURCE_DEM_DATE 1996 7 30 source dem date yyyy mm dd*
AGENCY "WESTERN MAPPING CENTER (WMC)" oversight agency*
PRODUCER "Analytical Surveys" producer/contractor*
PRODUCTION_SYSTEM "ORBIT OR_RECTIFY V.5.2" production system*
STANDARD_VERSION 1996 12 version of DOQ standard*
METADATA_DATE 1997 7 22 date created or changed, yyyy mm dd*
DATA_FILE_SIZE 46456920 data set size in bytes*
BYTE_COUNT 6120 header byte count* * * * * * * * * * * * * * * * * * * * * * * * * * * * * * * * * *
END_USGS_HEADER *
