BEGIN_USGS_DOQ_HEADER *
QUADRANGLE_NAME "ORLAND" *
QUADRANT SW *
WEST_LONGITUDE -122 15 0.0 *
EAST_LONGITUDE -122 11 15.0 *
NORTH_LATITUDE 39 41 15.0 *
SOUTH_LATITUDE 39 37 30.0 *
PRODUCTION_DATE 2001 3 19 *
RASTER_ORDER LEFT_RIGHT/TOP_BOTTOM *
BAND_ORGANIZATION "SINGLE FILE" *
BAND_CONTENT BLACK&WHITE *
BITS_PER_PIXEL 8 *
SAMPLES_AND_LINES 6131 7601 *
HORIZONTAL_DATUM NAD83 *
HORIZONTAL_COORDINATE_SYSTEM UTM *
COORDINATE_ZONE 10 *
HORIZONTAL_UNITS METERS *
HORIZONTAL_RESOLUTION 1.0 *
SECONDARY_HORIZONTAL_DATUM NAD27 *
XY_ORIGIN 563910.000 4393690.000 *
SECONDARY_XY_ORIGIN 564005.690 4393494.660 *
NATION US *
STATE CA *
NW_QUAD_CORNER_XY 564310.997 4393342.517 *
NE_QUAD_CORNER_XY 569670.311 4393389.187 *
SE_QUAD_CORNER_XY 569733.091 4386452.579 *
SW_QUAD_CORNER_XY 564368.947 4386405.929 *
SECONDARY_NW_QUAD_XY 564312.674 4393133.112 *
SECONDARY_NE_QUAD_XY 569672.128 4393179.782 *
SECONDARY_SE_QUAD_XY 569734.906 4386243.302 *
SECONDARY_SW_QUAD_XY 564370.622 4386196.651 *
RMSE_XY 0.498 *
IMAGE_SOURCE "Black and White film" *
SOURCE_IMAGE_ID "NAPP 10484-123" *
SOURCE_IMAGE_DATE 1998 08 21 *
SOURCE_DEM_DATE 1978 00 00 *
AGENCY "WESTERN MAPPING CENTER (WMC)" *
PRODUCER "Hammon, Jensen, Wallen & Associates" *
PRODUCTION_SYSTEM "ORTHOVIEW" *
STANDARD_VERSION 1996 12 *
METADATA_DATE 2001 3 19 *
DATA_FILE_SIZE 46607862 *
BYTE_COUNT 6131 * * * * * * * * * * * * * * * * * * * * * * * * * * * * * * * * * *
END_USGS_HEADER *
