BEGIN_USGS_DOQ_HEADER *
QUADRANGLE_NAME "JULIAN ROCKS" *
QUADRANT NE *
WEST_LONGITUDE -122 26 15.0 *
EAST_LONGITUDE -122 22 30.0 *
NORTH_LATITUDE 39 45 0.0 *
SOUTH_LATITUDE 39 41 15.0 *
PRODUCTION_DATE 2001 3 18 *
RASTER_ORDER LEFT_RIGHT/TOP_BOTTOM *
BAND_ORGANIZATION "SINGLE FILE" *
BAND_CONTENT BLACK&WHITE *
BITS_PER_PIXEL 8 *
SAMPLES_AND_LINES 6111 7591 *
HORIZONTAL_DATUM NAD83 *
HORIZONTAL_COORDINATE_SYSTEM UTM *
COORDINATE_ZONE 10 *
HORIZONTAL_UNITS METERS *
HORIZONTAL_RESOLUTION 1.0 *
SECONDARY_HORIZONTAL_DATUM NAD27 *
XY_ORIGIN 547790.000 4400500.000 *
SECONDARY_XY_ORIGIN 547885.830 4400304.515 *
NATION US *
STATE CA *
NW_QUAD_CORNER_XY 548189.617 4400161.526 *
NE_QUAD_CORNER_XY 553544.056 4400197.008 *
SE_QUAD_CORNER_XY 553592.410 4393260.380 *
SW_QUAD_CORNER_XY 548233.135 4393224.913 *
SECONDARY_NW_QUAD_XY 548190.875 4399951.991 *
SECONDARY_NE_QUAD_XY 553545.454 4399987.474 *
SECONDARY_SE_QUAD_XY 553593.807 4393050.973 *
SECONDARY_SW_QUAD_XY 548234.393 4393015.504 *
RMSE_XY 0.640 *
IMAGE_SOURCE "Black and White film" *
SOURCE_IMAGE_ID "NAPP 10476-8" *
SOURCE_IMAGE_DATE 1998 08 11 *
SOURCE_DEM_DATE 1973 00 00 *
AGENCY "WESTERN MAPPING CENTER (WMC)" *
PRODUCER "Hammon, Jensen, Wallen & Associates" *
PRODUCTION_SYSTEM "ORTHOVIEW" *
STANDARD_VERSION 1996 12 *
METADATA_DATE 2001 3 18 *
DATA_FILE_SIZE 46394712 *
BYTE_COUNT 6111 * * * * * * * * * * * * * * * * * * * * * * * * * * * * * * * * * *
END_USGS_HEADER *
