BEGIN_USGS_DOQ_HEADER *
QUADRANGLE_NAME "JULIAN ROCKS" *
QUADRANT NW *
WEST_LONGITUDE -122 30 0.0 *
EAST_LONGITUDE -122 26 15.0 *
NORTH_LATITUDE 39 45 0.0 *
SOUTH_LATITUDE 39 41 15.0 *
PRODUCTION_DATE 2001 3 18 *
RASTER_ORDER LEFT_RIGHT/TOP_BOTTOM *
BAND_ORGANIZATION "SINGLE FILE" *
BAND_CONTENT BLACK&WHITE *
BITS_PER_PIXEL 8 *
SAMPLES_AND_LINES 6101 7601 *
HORIZONTAL_DATUM NAD83 *
HORIZONTAL_COORDINATE_SYSTEM UTM *
COORDINATE_ZONE 10 *
HORIZONTAL_UNITS METERS *
HORIZONTAL_RESOLUTION 1.0 *
SECONDARY_HORIZONTAL_DATUM NAD27 *
XY_ORIGIN 542440.000 4400470.000 *
SECONDARY_XY_ORIGIN 542535.868 4400274.489 *
NATION US *
STATE CA *
NW_QUAD_CORNER_XY 542835.188 4400129.779 *
NE_QUAD_CORNER_XY 548189.617 4400161.526 *
SE_QUAD_CORNER_XY 548233.135 4393224.913 *
SW_QUAD_CORNER_XY 542873.871 4393193.179 *
SECONDARY_NW_QUAD_XY 542836.306 4399920.243 *
SECONDARY_NE_QUAD_XY 548190.875 4399951.991 *
SECONDARY_SE_QUAD_XY 548234.393 4393015.504 *
SECONDARY_SW_QUAD_XY 542874.989 4392983.769 *
RMSE_XY 1.095 *
IMAGE_SOURCE "Black and White film" *
SOURCE_IMAGE_ID "NAPP 10476-91" *
SOURCE_IMAGE_DATE 1998 08 11 *
SOURCE_DEM_DATE 1973 00 00 *
AGENCY "WESTERN MAPPING CENTER (WMC)" *
PRODUCER "Hammon, Jensen, Wallen & Associates" *
PRODUCTION_SYSTEM "ORTHOVIEW" *
STANDARD_VERSION 1996 12 *
METADATA_DATE 2001 3 18 *
DATA_FILE_SIZE 46379802 *
BYTE_COUNT 6101 * * * * * * * * * * * * * * * * * * * * * * * * * * * * * * * * * *
END_USGS_HEADER *
