BEGIN_USGS_DOQ_HEADER *
QUADRANGLE_NAME "CHROME" *
QUADRANT NE *
WEST_LONGITUDE -122 33 45.000 *
EAST_LONGITUDE -122 30 0.000 *
NORTH_LATITUDE 39 45 0.000 *
SOUTH_LATITUDE 39 41 15.000 *
PRODUCTION_DATE 2000 11 25 *
RASTER_ORDER LEFT_RIGHT/TOP_BOTTOM *
BAND_ORGANIZATION "SINGLE FILE" *
BAND_CONTENT BLACK&WHITE *
BITS_PER_PIXEL 8 *
SAMPLES_AND_LINES 6088 7579 *
HORIZONTAL_DATUM NAD83 *
HORIZONTAL_COORDINATE_SYSTEM UTM *
COORDINATE_ZONE 10 *
HORIZONTAL_UNITS METERS *
HORIZONTAL_RESOLUTION 1.0 *
SECONDARY_HORIZONTAL_DATUM NAD27 *
XY_ORIGIN 537085.963 4400429.279 *
SECONDARY_XY_ORIGIN 537181.744 4400233.723 *
NATION US *
STATE CA *
NW_QUAD_CORNER_XY 537480.769 4400101.767 *
NE_QUAD_CORNER_XY 542835.188 4400129.779 *
SE_QUAD_CORNER_XY 542873.871 4393193.179 *
SW_QUAD_CORNER_XY 537514.616 4393165.179 *
SECONDARY_NW_QUAD_XY 537481.748 4399892.231 *
SECONDARY_NE_QUAD_XY 542836.307 4399920.243 *
SECONDARY_SE_QUAD_XY 542874.990 4392983.770 *
SECONDARY_SW_QUAD_XY 537515.595 4392955.769 *
RMSE_XY 0.80 *
IMAGE_SOURCE "BLACK AND WHITE FILM" *
SOURCE_IMAGE_ID "NAPP 10476 165" *
SOURCE_IMAGE_DATE 1998 8 11 *
SOURCE_IMAGE_ID "NAPP 10476 166" *
SOURCE_IMAGE_DATE 1998 8 11 *
SOURCE_IMAGE_ID "NAPP 10476 164" *
SOURCE_IMAGE_DATE 1998 8 11 *
SOURCE_IMAGE_ID "NAPP 10476 105" *
SOURCE_IMAGE_DATE 1998 8 11 *
SOURCE_IMAGE_ID "NAPP 10476 106" *
SOURCE_IMAGE_DATE 1998 8 11 *
SOURCE_IMAGE_ID "NAPP 10476 107" *
SOURCE_IMAGE_DATE 1998 8 11 *
SOURCE_DEM_DATE 2000 0 0 *
AGENCY "WESTERN MAPPING CENTER (WMC)" *
PRODUCER "USDA FS GEOSPATIAL SERVICE AND TECHNOLOGY CENTER" *
PRODUCTION_SYSTEM "ORBIT OR_RECTIFY V.5.2" *
STANDARD_VERSION 1996 12 *
METADATA_DATE 2000 11 25 *
DATA_FILE_SIZE 46147040 *
BYTE_COUNT 6088 * * * * * * * * * * * * * * * * * * * * * * * *
END_USGS_HEADER *
