BEGIN_USGS_DOQ_HEADER *
QUADRANGLE_NAME "ALDER SPRINGS" 3.45 or 7.5-min. name*
QUADRANT NE quadrant indicator if cell size = 3.75-minutes*
WEST_LONGITUDE -122 41 15.000 signed deg min sec SDDD MM SS.SSS*
EAST_LONGITUDE -122 37 30.000 signed deg min sec SDDD MM SS.SSS*
NORTH_LATITUDE 39 45 0.000 signed deg min sec SDDD MM SS.SSS*
SOUTH_LATITUDE 39 41 15.000 signed deg min sec SDDD MM SS.SSS*
PRODUCTION_DATE 1996 5 1 yyyy mm dd*
RASTER_ORDER LEFT_RIGHT/TOP_BOTTOM video display order*
BAND_ORGANIZATION "SINGLE FILE" single file or BSQ, or BIL or BIP*
BAND_CONTENT BLACK&WHITE black&white or red green blue*
BITS_PER_PIXEL 8 radiometric resolution*
SAMPLES_AND_LINES 6088 7580 number of columns and rows*
HORIZONTAL_DATUM NAD83 primary horizontal datum*
HORIZONTAL_COORDINATE_SYSTEM UTM *
COORDINATE_ZONE 10 coordinate system zone number*
HORIZONTAL_UNITS METERS coordinate system units*
HORIZONTAL_RESOLUTION 1.00 pixel horiz. ground sample distance*
SECONDARY_HORIZONTAL_DATUM NAD27 secondary horizontal datum*
XY_ORIGIN 526372.500 4400381.500 coord. of upper left pixel pri. datum*
SECONDARY_XY_ORIGIN 526468.106 4400185.854 coord upper left pixel sec datum*
NATION US nation code*
STATE CA state fip code*
NW_QUAD_CORNER_XY 526771.954 4400056.949 XY coords. of pri. NW quad corner*
NE_QUAD_CORNER_XY 532126.358 4400077.491 XY coords. of pri. NE quad corner*
SE_QUAD_CORNER_XY 532155.370 4393140.912 XY coords. of pri. SE quad corner*
SW_QUAD_CORNER_XY 526796.131 4393120.379 XY coords. of pri. SW quad corner*
SECONDARY_NW_QUAD_XY 526772.653 4399847.411 XY coords. - sec. NW quad cor.*
SECONDARY_NE_QUAD_XY 532127.197 4399867.953 XY coords. - sec. NE quad cor.*
SECONDARY_SE_QUAD_XY 532156.208 4392931.501 XY coords. - sec. SE quad cor.*
SECONDARY_SW_QUAD_XY 526796.829 4392910.967 XY coords. - sec. SW quad cor.*
RMSE_XY 1.70 doq horiz. accuracy*
IMAGE_SOURCE "BLACK AND WHITE FILM" b&w, cir, natural color, other*
SOURCE_IMAGE_ID "PAPP 0260 898" source image id*
SOURCE_IMAGE_DATE 1993 8 10 source image date as yyyy mm dd*
IMAGE_SOURCE "BLACK AND WHITE FILM" b&w, cir, natural color, other*
SOURCE_IMAGE_ID "PAPP 0260 797" source image id*
SOURCE_IMAGE_DATE 1993 8 10 source image date as yyyy mm dd*
IMAGE_SOURCE "BLACK AND WHITE FILM" b&w, cir, natural color, other*
SOURCE_IMAGE_ID "PAPP 0260 999" source image id*
SOURCE_IMAGE_DATE 1993 8 10 source image date as yyyy mm dd*
SOURCE_DEM_DATE 1996 5 1 source dem date yyyy mm dd*
AGENCY "WESTERN MAPPING CENTER (WMC)" oversight agency*
PRODUCER "Woolpert Consultants" producer/contractor*
PRODUCTION_SYSTEM "INTERGRAPH ISPM,ISIR" production system*
STANDARD_VERSION 1996 12 version of DOQ standard*
METADATA_DATE 1997 5 27 date created or changed, yyyy mm dd*
DATA_FILE_SIZE 46153128 data set size in bytes*
BYTE_COUNT 6088 header byte count* * * * * * * * * * * * * * * * * * * * * * * * * * * *
END_USGS_HEADER *
