BEGIN_USGS_DOQ_HEADER *
QUADRANGLE_NAME "PLASKETT MEADOWS" *
QUADRANT NW *
WEST_LONGITUDE -122 52 30.000 *
EAST_LONGITUDE -122 48 45.000 *
NORTH_LATITUDE 39 45 0.000 *
SOUTH_LATITUDE 39 41 15.000 *
PRODUCTION_DATE 2000 11 25 *
RASTER_ORDER LEFT_RIGHT/TOP_BOTTOM *
BAND_ORGANIZATION "SINGLE FILE" *
BAND_CONTENT BLACK&WHITE *
BITS_PER_PIXEL 8 *
SAMPLES_AND_LINES 6064 7560 *
HORIZONTAL_DATUM NAD83 *
HORIZONTAL_COORDINATE_SYSTEM UTM *
COORDINATE_ZONE 10 *
HORIZONTAL_UNITS METERS *
HORIZONTAL_RESOLUTION 1.0 *
SECONDARY_HORIZONTAL_DATUM NAD27 *
XY_ORIGIN 510313.482 4400327.071 *
SECONDARY_XY_ORIGIN 510409.058 4400131.239 *
NATION US *
STATE CA *
NW_QUAD_CORNER_XY 510708.774 4400017.734 *
NE_QUAD_CORNER_XY 516063.163 4400027.071 *
SE_QUAD_CORNER_XY 516077.669 4393090.512 *
SW_QUAD_CORNER_XY 510718.444 4393081.179 *
SECONDARY_NW_QUAD_XY 510709.056 4399808.194 *
SECONDARY_NE_QUAD_XY 516063.585 4399817.532 *
SECONDARY_SE_QUAD_XY 516078.091 4392881.100 *
SECONDARY_SW_QUAD_XY 510718.726 4392871.767 *
RMSE_XY 0.80 *
IMAGE_SOURCE "BLACK AND WHITE FILM" *
SOURCE_IMAGE_ID "NAPP 10484 60" *
SOURCE_IMAGE_DATE 1998 9 21 *
SOURCE_IMAGE_ID "NAPP 10484 59" *
SOURCE_IMAGE_DATE 1998 9 21 *
SOURCE_IMAGE_ID "NAPP 10484 61" *
SOURCE_IMAGE_DATE 1998 9 21 *
SOURCE_IMAGE_ID "NAPP 10484 92" *
SOURCE_IMAGE_DATE 1998 9 21 *
SOURCE_IMAGE_ID "NAPP 10484 91" *
SOURCE_IMAGE_DATE 1998 9 21 *
SOURCE_IMAGE_ID "NAPP 10484 90" *
SOURCE_IMAGE_DATE 1998 9 21 *
SOURCE_DEM_DATE 2000 0 0 *
AGENCY "WESTERN MAPPING CENTER (WMC)" *
PRODUCER "USDA FS GEOSPATIAL SERVICE AND TECHNOLOGY CENTER" *
PRODUCTION_SYSTEM "ORBIT OR_RECTIFY V.5.2" *
STANDARD_VERSION 1996 12 *
METADATA_DATE 2000 11 25 *
DATA_FILE_SIZE 45849904 *
BYTE_COUNT 6064 * * * * * * * * * * * * * * * * * * * * * * *
END_USGS_HEADER *
