BEGIN_USGS_DOQ_HEADER *
QUADRANGLE_NAME "PLASKETT MEADOWS" *
QUADRANT SE *
WEST_LONGITUDE -122 48 45.000 *
EAST_LONGITUDE -122 45 0.000 *
NORTH_LATITUDE 39 41 15.000 *
SOUTH_LATITUDE 39 37 30.000 *
PRODUCTION_DATE 2000 11 25 *
RASTER_ORDER LEFT_RIGHT/TOP_BOTTOM *
BAND_ORGANIZATION "SINGLE FILE" *
BAND_CONTENT BLACK&WHITE *
BITS_PER_PIXEL 8 *
SAMPLES_AND_LINES 6074 7563 *
HORIZONTAL_DATUM NAD83 *
HORIZONTAL_COORDINATE_SYSTEM UTM *
COORDINATE_ZONE 10 *
HORIZONTAL_UNITS METERS *
HORIZONTAL_RESOLUTION 1.0 *
SECONDARY_HORIZONTAL_DATUM NAD27 *
XY_ORIGIN 515682.503 4393403.079 *
SECONDARY_XY_ORIGIN 515778.091 4393207.376 *
NATION US *
STATE CA *
NW_QUAD_CORNER_XY 516077.669 4393090.512 *
NE_QUAD_CORNER_XY 521436.897 4393103.579 *
SE_QUAD_CORNER_XY 521456.213 4386167.090 *
SW_QUAD_CORNER_XY 516092.155 4386154.029 *
SECONDARY_NW_QUAD_XY 516078.091 4392881.100 *
SECONDARY_NE_QUAD_XY 521437.459 4392894.167 *
SECONDARY_SE_QUAD_XY 521456.774 4385957.806 *
SECONDARY_SW_QUAD_XY 516092.577 4385944.744 *
RMSE_XY 0.80 *
IMAGE_SOURCE "BLACK AND WHITE FILM" *
SOURCE_IMAGE_ID "NAPP 10484 93" *
SOURCE_IMAGE_DATE 1998 9 21 *
SOURCE_IMAGE_ID "NAPP 10484 94" *
SOURCE_IMAGE_DATE 1998 9 21 *
SOURCE_IMAGE_ID "NAPP 10484 92" *
SOURCE_IMAGE_DATE 1998 9 21 *
SOURCE_IMAGE_ID "NAPP 10484 57" *
SOURCE_IMAGE_DATE 1998 9 21 *
SOURCE_IMAGE_ID "NAPP 10484 58" *
SOURCE_IMAGE_DATE 1998 9 21 *
SOURCE_IMAGE_ID "NAPP 10484 59" *
SOURCE_IMAGE_DATE 1998 9 21 *
SOURCE_DEM_DATE 2000 0 0 *
AGENCY "WESTERN MAPPING CENTER (WMC)" *
PRODUCER "USDA FS GEOSPATIAL SERVICE AND TECHNOLOGY CENTER" *
PRODUCTION_SYSTEM "ORBIT OR_RECTIFY V.5.2" *
STANDARD_VERSION 1996 12 *
METADATA_DATE 2000 11 25 *
DATA_FILE_SIZE 45943736 *
BYTE_COUNT 6074 * * * * * * * * * * * * * * * * * * * * * * *
END_USGS_HEADER *
