BEGIN_USGS_DOQ_HEADER *
QUADRANGLE_NAME "PLASKETT RIDGE" *
QUADRANT NE *
WEST_LONGITUDE -122 56 15.000 *
EAST_LONGITUDE -122 52 30.000 *
NORTH_LATITUDE 39 45 0.000 *
SOUTH_LATITUDE 39 41 15.000 *
PRODUCTION_DATE 2000 11 25 *
RASTER_ORDER LEFT_RIGHT/TOP_BOTTOM *
BAND_ORGANIZATION "SINGLE FILE" *
BAND_CONTENT BLACK&WHITE *
BITS_PER_PIXEL 8 *
SAMPLES_AND_LINES 6060 7556 *
HORIZONTAL_DATUM NAD83 *
HORIZONTAL_COORDINATE_SYSTEM UTM *
COORDINATE_ZONE 10 *
HORIZONTAL_UNITS METERS *
HORIZONTAL_RESOLUTION 1.0 *
SECONDARY_HORIZONTAL_DATUM NAD27 *
XY_ORIGIN 504958.931 4400317.734 *
SECONDARY_XY_ORIGIN 505054.531 4400121.833 *
NATION US *
STATE CA *
NW_QUAD_CORNER_XY 505354.386 4400012.131 *
NE_QUAD_CORNER_XY 510708.774 4400017.734 *
SE_QUAD_CORNER_XY 510718.444 4393081.179 *
SW_QUAD_CORNER_XY 505359.221 4393075.579 *
SECONDARY_NW_QUAD_XY 505354.529 4399802.592 *
SECONDARY_NE_QUAD_XY 510709.056 4399808.194 *
SECONDARY_SE_QUAD_XY 510718.726 4392871.767 *
SECONDARY_SW_QUAD_XY 505359.364 4392866.167 *
RMSE_XY 0.80 *
IMAGE_SOURCE "BLACK AND WHITE FILM" *
SOURCE_IMAGE_ID "NAPP 10484 10" *
SOURCE_IMAGE_DATE 1998 9 21 *
SOURCE_IMAGE_ID "NAPP 10484 9" *
SOURCE_IMAGE_DATE 1998 9 21 *
SOURCE_IMAGE_ID "NAPP 10484 11" *
SOURCE_IMAGE_DATE 1998 9 21 *
SOURCE_IMAGE_ID "NAPP 10484 46" *
SOURCE_IMAGE_DATE 1998 9 21 *
SOURCE_IMAGE_ID "NAPP 10484 45" *
SOURCE_IMAGE_DATE 1998 9 21 *
SOURCE_IMAGE_ID "NAPP 10484 44" *
SOURCE_IMAGE_DATE 1998 9 21 *
SOURCE_DEM_DATE 2000 0 0 *
AGENCY "WESTERN MAPPING CENTER (WMC)" *
PRODUCER "USDA FS GEOSPATIAL SERVICE AND TECHNOLOGY CENTER" *
PRODUCTION_SYSTEM "ORBIT OR_RECTIFY V.5.2" *
STANDARD_VERSION 1996 12 *
METADATA_DATE 2000 11 25 *
DATA_FILE_SIZE 45795420 *
BYTE_COUNT 6060 * * * * * * * * * * * * * * * * * * * * * * *
END_USGS_HEADER *
