BEGIN_USGS_DOQ_HEADER *
QUADRANGLE_NAME "KIRKWOOD" *
QUADRANT SW *
WEST_LONGITUDE -122 15 0.0 *
EAST_LONGITUDE -122 11 15.0 *
NORTH_LATITUDE 39 48 45.0 *
SOUTH_LATITUDE 39 45 0.0 *
PRODUCTION_DATE 2001 3 19 *
RASTER_ORDER LEFT_RIGHT/TOP_BOTTOM *
BAND_ORGANIZATION "SINGLE FILE" *
BAND_CONTENT BLACK&WHITE *
BITS_PER_PIXEL 8 *
SAMPLES_AND_LINES 6111 7611 *
HORIZONTAL_DATUM NAD83 *
HORIZONTAL_COORDINATE_SYSTEM UTM *
COORDINATE_ZONE 10 *
HORIZONTAL_UNITS METERS *
HORIZONTAL_RESOLUTION 1.0 *
SECONDARY_HORIZONTAL_DATUM NAD27 *
XY_ORIGIN 563800.000 4407570.000 *
SECONDARY_XY_ORIGIN 563895.709 4407374.504 *
NATION US *
STATE CA *
NW_QUAD_CORNER_XY 564194.867 4407215.914 *
NE_QUAD_CORNER_XY 569544.502 4407262.622 *
SE_QUAD_CORNER_XY 569607.448 4400325.867 *
SW_QUAD_CORNER_XY 564252.970 4400279.179 *
SECONDARY_NW_QUAD_XY 564196.545 4407006.256 *
SECONDARY_NE_QUAD_XY 569546.320 4407052.964 *
SECONDARY_SE_QUAD_XY 569609.266 4400116.336 *
SECONDARY_SW_QUAD_XY 564254.648 4400069.646 *
RMSE_XY 0.608 *
IMAGE_SOURCE "Black and White film" *
SOURCE_IMAGE_ID "NAPP 10475-143" *
SOURCE_IMAGE_DATE 1998 08 11 *
SOURCE_DEM_DATE 1969 00 00 *
AGENCY "WESTERN MAPPING CENTER (WMC)" *
PRODUCER "Hammon, Jensen, Wallen & Associates" *
PRODUCTION_SYSTEM "ORTHOVIEW" *
STANDARD_VERSION 1996 12 *
METADATA_DATE 2001 3 19 *
DATA_FILE_SIZE 46516932 *
BYTE_COUNT 6111 * * * * * * * * * * * * * * * * * * * * * * * * * * * * * * * * * *
END_USGS_HEADER *
