BEGIN_USGS_DOQ_HEADER *
QUADRANGLE_NAME "NEWVILLE" 3.45 or 7.5-min. name*
QUADRANT SE quadrant indicator if cell size = 3.75-minutes*
WEST_LONGITUDE -122 33 45.000 signed deg min sec SDDD MM SS.SSS*
EAST_LONGITUDE -122 30 0.000 signed deg min sec SDDD MM SS.SSS*
NORTH_LATITUDE 39 48 45.000 signed deg min sec SDDD MM SS.SSS*
SOUTH_LATITUDE 39 45 0.000 signed deg min sec SDDD MM SS.SSS*
PRODUCTION_DATE 1996 5 1 yyyy mm dd*
RASTER_ORDER LEFT_RIGHT/TOP_BOTTOM video display order*
BAND_ORGANIZATION "SINGLE FILE" single file or BSQ, or BIL or BIP*
BAND_CONTENT BLACK&WHITE black&white or red green blue*
BITS_PER_PIXEL 8 radiometric resolution*
SAMPLES_AND_LINES 6093 7588 number of columns and rows*
HORIZONTAL_DATUM NAD83 primary horizontal datum*
HORIZONTAL_COORDINATE_SYSTEM UTM *
COORDINATE_ZONE 10 coordinate system zone number*
HORIZONTAL_UNITS METERS coordinate system units*
HORIZONTAL_RESOLUTION 1.00 pixel horiz. ground sample distance*
SECONDARY_HORIZONTAL_DATUM NAD27 secondary horizontal datum*
XY_ORIGIN 537047.500 4407370.500 coord. of upper left pixel pri. datum*
SECONDARY_XY_ORIGIN 537143.307 4407174.870 coord upper left pixel sec datum*
NATION US nation code*
STATE CA state fip code*
NW_QUAD_CORNER_XY 537446.877 4407038.431 XY coords. of pri. NW quad corner*
NE_QUAD_CORNER_XY 542796.454 4407066.454 XY coords. of pri. NE quad corner*
SE_QUAD_CORNER_XY 542835.188 4400129.779 XY coords. of pri. SE quad corner*
SW_QUAD_CORNER_XY 537480.769 4400101.767 XY coords. of pri. SW quad corner*
SECONDARY_NW_QUAD_XY 537447.856 4406828.768 XY coords. - sec. NW quad cor.*
SECONDARY_NE_QUAD_XY 542797.573 4406856.792 XY coords. - sec. NE quad cor.*
SECONDARY_SE_QUAD_XY 542836.306 4399920.243 XY coords. - sec. SE quad cor.*
SECONDARY_SW_QUAD_XY 537481.748 4399892.230 XY coords. - sec. SW quad cor.*
RMSE_XY 2.10 doq horiz. accuracy*
IMAGE_SOURCE "BLACK AND WHITE FILM" b&w, cir, natural color, other*
SOURCE_IMAGE_ID "PAPP 4244 464" source image id*
SOURCE_IMAGE_DATE 1993 6 11 source image date as yyyy mm dd*
SOURCE_DEM_DATE 1996 5 1 source dem date yyyy mm dd*
AGENCY "WESTERN MAPPING CENTER (WMC)" oversight agency*
PRODUCER "Woolpert Consultants" producer/contractor*
PRODUCTION_SYSTEM "INTERGRAPH ISPM,ISIR" production system*
STANDARD_VERSION 1996 12 version of DOQ standard*
METADATA_DATE 1997 5 27 date created or changed, yyyy mm dd*
DATA_FILE_SIZE 46239777 data set size in bytes*
BYTE_COUNT 6093 header byte count* * * * * * * * * * * * * * * * * * * * * * * * * * * * * * * * * *
END_USGS_HEADER *
