BEGIN_USGS_DOQ_HEADER *
QUADRANGLE_NAME "HALL RIDGE" 3.45 or 7.5-min. name*
QUADRANT NE quadrant indicator if cell size = 3.75-minutes*
WEST_LONGITUDE -122 41 15.000 signed deg min sec SDDD MM SS.SSS*
EAST_LONGITUDE -122 37 30.000 signed deg min sec SDDD MM SS.SSS*
NORTH_LATITUDE 39 52 30.000 signed deg min sec SDDD MM SS.SSS*
SOUTH_LATITUDE 39 48 45.000 signed deg min sec SDDD MM SS.SSS*
PRODUCTION_DATE 1996 5 1 yyyy mm dd*
RASTER_ORDER LEFT_RIGHT/TOP_BOTTOM video display order*
BAND_ORGANIZATION "SINGLE FILE" single file or BSQ, or BIL or BIP*
BAND_CONTENT BLACK&WHITE black&white or red green blue*
BITS_PER_PIXEL 8 radiometric resolution*
SAMPLES_AND_LINES 6078 7581 number of columns and rows*
HORIZONTAL_DATUM NAD83 primary horizontal datum*
HORIZONTAL_COORDINATE_SYSTEM UTM *
COORDINATE_ZONE 10 coordinate system zone number*
HORIZONTAL_UNITS METERS coordinate system units*
HORIZONTAL_RESOLUTION 1.00 pixel horiz. ground sample distance*
SECONDARY_HORIZONTAL_DATUM NAD27 secondary horizontal datum*
XY_ORIGIN 526324.500 4414255.500 coord. of upper left pixel pri. datum*
SECONDARY_XY_ORIGIN 526420.167 4414059.689 coord upper left pixel sec datum*
NATION US nation code*
STATE CA state fip code*
NW_QUAD_CORNER_XY 526723.506 4413930.314 XY coords. of pri. NW quad corner*
NE_QUAD_CORNER_XY 532068.219 4413950.872 XY coords. of pri. NE quad corner*
SE_QUAD_CORNER_XY 532097.308 4407014.144 XY coords. of pri. SE quad corner*
SW_QUAD_CORNER_XY 526747.746 4406993.594 XY coords. of pri. SW quad corner*
SECONDARY_NW_QUAD_XY 526724.206 4413720.525 XY coords. - sec. NW quad cor.*
SECONDARY_NE_QUAD_XY 532069.059 4413741.084 XY coords. - sec. NE quad cor.*
SECONDARY_SE_QUAD_XY 532098.147 4406804.481 XY coords. - sec. SE quad cor.*
SECONDARY_SW_QUAD_XY 526748.445 4406783.930 XY coords. - sec. SW quad cor.*
RMSE_XY 1.90 doq horiz. accuracy*
IMAGE_SOURCE "BLACK AND WHITE FILM" b&w, cir, natural color, other*
SOURCE_IMAGE_ID "PAPP 0260 202" source image id*
SOURCE_IMAGE_DATE 1994 8 10 source image date as yyyy mm dd*
IMAGE_SOURCE "BLACK AND WHITE FILM" b&w, cir, natural color, other*
SOURCE_IMAGE_ID "PAPP 0260 101" source image id*
SOURCE_IMAGE_DATE 1994 8 10 source image date as yyyy mm dd*
IMAGE_SOURCE "BLACK AND WHITE FILM" b&w, cir, natural color, other*
SOURCE_IMAGE_ID "PAPP 0260 303" source image id*
SOURCE_IMAGE_DATE 1994 8 10 source image date as yyyy mm dd*
SOURCE_DEM_DATE 1996 5 1 source dem date yyyy mm dd*
AGENCY "WESTERN MAPPING CENTER (WMC)" oversight agency*
PRODUCER "Woolpert Consultants" producer/contractor*
PRODUCTION_SYSTEM "INTERGRAPH ISPM,ISIR" production system*
STANDARD_VERSION 1996 12 version of DOQ standard*
METADATA_DATE 1997 5 27 date created or changed, yyyy mm dd*
DATA_FILE_SIZE 46083396 data set size in bytes*
BYTE_COUNT 6078 header byte count* * * * * * * * * * * * * * * * * * * * * * * * * * *
END_USGS_HEADER *
