BEGIN_USGS_DOQ_HEADER *
QUADRANGLE_NAME "LOG SPRING" *
QUADRANT SW *
WEST_LONGITUDE -122 52 30.000 *
EAST_LONGITUDE -122 48 45.000 *
NORTH_LATITUDE 39 48 45.000 *
SOUTH_LATITUDE 39 45 0.000 *
PRODUCTION_DATE 2000 11 25 *
RASTER_ORDER LEFT_RIGHT/TOP_BOTTOM *
BAND_ORGANIZATION "SINGLE FILE" *
BAND_CONTENT BLACK&WHITE *
BITS_PER_PIXEL 8 *
SAMPLES_AND_LINES 6059 7560 *
HORIZONTAL_DATUM NAD83 *
HORIZONTAL_COORDINATE_SYSTEM UTM *
COORDINATE_ZONE 10 *
HORIZONTAL_UNITS METERS *
HORIZONTAL_RESOLUTION 1.0 *
SECONDARY_HORIZONTAL_DATUM NAD27 *
XY_ORIGIN 510304.271 4407263.704 *
SECONDARY_XY_ORIGIN 510399.875 4407067.805 *
NATION US *
STATE CA *
NW_QUAD_CORNER_XY 510699.090 4406954.363 *
NE_QUAD_CORNER_XY 516048.638 4406963.704 *
SE_QUAD_CORNER_XY 516063.163 4400027.071 *
SW_QUAD_CORNER_XY 510708.774 4400017.734 *
SECONDARY_NW_QUAD_XY 510699.373 4406744.698 *
SECONDARY_NE_QUAD_XY 516049.060 4406754.039 *
SECONDARY_SE_QUAD_XY 516063.585 4399817.532 *
SECONDARY_SW_QUAD_XY 510709.056 4399808.194 *
RMSE_XY 0.80 *
IMAGE_SOURCE "BLACK AND WHITE FILM" *
SOURCE_IMAGE_ID "NAPP 10484 62" *
SOURCE_IMAGE_DATE 1998 9 21 *
SOURCE_IMAGE_ID "NAPP 10484 61" *
SOURCE_IMAGE_DATE 1998 9 21 *
SOURCE_IMAGE_ID "NAPP 10484 63" *
SOURCE_IMAGE_DATE 1998 9 21 *
SOURCE_IMAGE_ID "NAPP 10484 90" *
SOURCE_IMAGE_DATE 1998 9 21 *
SOURCE_IMAGE_ID "NAPP 10484 89" *
SOURCE_IMAGE_DATE 1998 9 21 *
SOURCE_IMAGE_ID "NAPP 10484 88" *
SOURCE_IMAGE_DATE 1998 9 21 *
SOURCE_DEM_DATE 2000 0 0 *
AGENCY "WESTERN MAPPING CENTER (WMC)" *
PRODUCER "USDA FS GEOSPATIAL SERVICE AND TECHNOLOGY CENTER" *
PRODUCTION_SYSTEM "ORBIT OR_RECTIFY V.5.2" *
STANDARD_VERSION 1996 12 *
METADATA_DATE 2000 11 25 *
DATA_FILE_SIZE 45812099 *
BYTE_COUNT 6059 * * * * * * * * * * * * * * * * * * * * * * *
END_USGS_HEADER *
