BEGIN_USGS_DOQ_HEADER *
QUADRANGLE_NAME "MENDOCINO PASS" *
QUADRANT NW *
WEST_LONGITUDE -123 0 0.000 *
EAST_LONGITUDE -122 56 15.000 *
NORTH_LATITUDE 39 52 30.000 *
SOUTH_LATITUDE 39 48 45.000 *
PRODUCTION_DATE 2000 11 25 *
RASTER_ORDER LEFT_RIGHT/TOP_BOTTOM *
BAND_ORGANIZATION "SINGLE FILE" *
BAND_CONTENT BLACK&WHITE *
BITS_PER_PIXEL 8 *
SAMPLES_AND_LINES 6045 7552 *
HORIZONTAL_DATUM NAD83 *
HORIZONTAL_COORDINATE_SYSTEM UTM *
COORDINATE_ZONE 10 *
HORIZONTAL_UNITS METERS *
HORIZONTAL_RESOLUTION 1.0 *
SECONDARY_HORIZONTAL_DATUM NAD27 *
XY_ORIGIN 499604.834 4414185.460 *
SECONDARY_XY_ORIGIN 499700.505 4413989.393 *
NATION US *
STATE CA *
NW_QUAD_CORNER_XY 500000.000 4413883.591 *
NE_QUAD_CORNER_XY 505344.697 4413885.460 *
SE_QUAD_CORNER_XY 505349.545 4406948.758 *
SW_QUAD_CORNER_XY 500000.000 4406946.890 *
SECONDARY_NW_QUAD_XY 500000.003 4413673.801 *
SECONDARY_NE_QUAD_XY 505344.839 4413675.670 *
SECONDARY_SE_QUAD_XY 505349.687 4406739.093 *
SECONDARY_SW_QUAD_XY 500000.003 4406737.225 *
RMSE_XY 0.80 *
IMAGE_SOURCE "BLACK AND WHITE FILM" *
SOURCE_IMAGE_ID "NAPP 10484 41" *
SOURCE_IMAGE_DATE 1998 9 21 *
SOURCE_IMAGE_ID "NAPP 10484 42" *
SOURCE_IMAGE_DATE 1998 9 21 *
SOURCE_IMAGE_ID "NAPP 10484 40" *
SOURCE_IMAGE_DATE 1998 9 21 *
SOURCE_IMAGE_ID "NAPP 10484 13" *
SOURCE_IMAGE_DATE 1998 9 21 *
SOURCE_IMAGE_ID "NAPP 10484 14" *
SOURCE_IMAGE_DATE 1998 9 21 *
SOURCE_IMAGE_ID "NAPP 10484 15" *
SOURCE_IMAGE_DATE 1998 9 21 *
SOURCE_DEM_DATE 2000 0 0 *
AGENCY "WESTERN MAPPING CENTER (WMC)" *
PRODUCER "USDA FS GEOSPATIAL SERVICE AND TECHNOLOGY CENTER" *
PRODUCTION_SYSTEM "ORBIT OR_RECTIFY V.5.2" *
STANDARD_VERSION 1996 12 *
METADATA_DATE 2000 11 25 *
DATA_FILE_SIZE 45657885 *
BYTE_COUNT 6045 * * * * * * * * * * * * * * * * * * * * * * *
END_USGS_HEADER *
