BEGIN_USGS_DOQ_HEADER *
QUADRANGLE_NAME "HENLEYVILLE" *
QUADRANT SE *
WEST_LONGITUDE -122 18 45.0 *
EAST_LONGITUDE -122 15 0.0 *
NORTH_LATITUDE 39 56 15.0 *
SOUTH_LATITUDE 39 52 30.0 *
PRODUCTION_DATE 2001 3 18 *
RASTER_ORDER LEFT_RIGHT/TOP_BOTTOM *
BAND_ORGANIZATION "SINGLE FILE" *
BAND_CONTENT BLACK&WHITE *
BITS_PER_PIXEL 8 *
SAMPLES_AND_LINES 6101 7601 *
HORIZONTAL_DATUM NAD83 *
HORIZONTAL_COORDINATE_SYSTEM UTM *
COORDINATE_ZONE 10 *
HORIZONTAL_UNITS METERS *
HORIZONTAL_RESOLUTION 1.0 *
SECONDARY_HORIZONTAL_DATUM NAD27 *
XY_ORIGIN 558340.000 4421390.000 *
SECONDARY_XY_ORIGIN 558435.791 4421194.327 *
NATION US *
STATE CA *
NW_QUAD_CORNER_XY 558738.513 4421046.601 *
NE_QUAD_CORNER_XY 564078.430 4421089.606 *
SE_QUAD_CORNER_XY 564136.687 4414152.723 *
SW_QUAD_CORNER_XY 558791.914 4414109.735 *
SECONDARY_NW_QUAD_XY 558740.054 4420836.692 *
SECONDARY_NE_QUAD_XY 564080.110 4420879.698 *
SECONDARY_SE_QUAD_XY 564138.366 4413942.940 *
SECONDARY_SW_QUAD_XY 558793.454 4413899.951 *
RMSE_XY 0.467 *
IMAGE_SOURCE "Black and White film" *
SOURCE_IMAGE_ID "NAPP 10475-158" *
SOURCE_IMAGE_DATE 1998 08 11 *
SOURCE_DEM_DATE 1967 00 00 *
AGENCY "WESTERN MAPPING CENTER (WMC)" *
PRODUCER "Hammon, Jensen, Wallen & Associates" *
PRODUCTION_SYSTEM "ORTHOVIEW" *
STANDARD_VERSION 1996 12 *
METADATA_DATE 2001 3 18 *
DATA_FILE_SIZE 46379802 *
BYTE_COUNT 6101 * * * * * * * * * * * * * * * * * * * * * * * * * * * * * * * * * *
END_USGS_HEADER *
