BEGIN_USGS_DOQ_HEADER *
QUADRANGLE_NAME "HENLEYVILLE" *
QUADRANT SW *
WEST_LONGITUDE -122 22 30.0 *
EAST_LONGITUDE -122 18 45.0 *
NORTH_LATITUDE 39 56 15.0 *
SOUTH_LATITUDE 39 52 30.0 *
PRODUCTION_DATE 2001 3 18 *
RASTER_ORDER LEFT_RIGHT/TOP_BOTTOM *
BAND_ORGANIZATION "SINGLE FILE" *
BAND_CONTENT BLACK&WHITE *
BITS_PER_PIXEL 8 *
SAMPLES_AND_LINES 6101 7601 *
HORIZONTAL_DATUM NAD83 *
HORIZONTAL_COORDINATE_SYSTEM UTM *
COORDINATE_ZONE 10 *
HORIZONTAL_UNITS METERS *
HORIZONTAL_RESOLUTION 1.0 *
SECONDARY_HORIZONTAL_DATUM NAD27 *
XY_ORIGIN 553000.000 4421350.000 *
SECONDARY_XY_ORIGIN 553095.843 4421154.314 *
NATION US *
STATE CA *
NW_QUAD_CORNER_XY 553398.608 4421007.336 *
NE_QUAD_CORNER_XY 558738.513 4421046.601 *
SE_QUAD_CORNER_XY 558791.914 4414109.735 *
SW_QUAD_CORNER_XY 553447.155 4414070.486 *
SECONDARY_NW_QUAD_XY 553400.009 4420797.426 *
SECONDARY_NE_QUAD_XY 558740.054 4420836.692 *
SECONDARY_SE_QUAD_XY 558793.454 4413899.951 *
SECONDARY_SW_QUAD_XY 553448.554 4413860.701 *
RMSE_XY 0.685 *
IMAGE_SOURCE "Black and White film" *
SOURCE_IMAGE_ID "NAPP 10475-221" *
SOURCE_IMAGE_DATE 1998 08 11 *
SOURCE_DEM_DATE 1967 00 00 *
AGENCY "WESTERN MAPPING CENTER (WMC)" *
PRODUCER "Hammon, Jensen, Wallen & Associates" *
PRODUCTION_SYSTEM "ORTHOVIEW" *
STANDARD_VERSION 1996 12 *
METADATA_DATE 2001 3 18 *
DATA_FILE_SIZE 46379802 *
BYTE_COUNT 6101 * * * * * * * * * * * * * * * * * * * * * * * * * * * * * * * * * *
END_USGS_HEADER *
