BEGIN_USGS_DOQ_HEADER *
QUADRANGLE_NAME "FLOURNOY" *
QUADRANT SW *
WEST_LONGITUDE -122 30 0.0 *
EAST_LONGITUDE -122 26 15.0 *
NORTH_LATITUDE 39 56 15.0 *
SOUTH_LATITUDE 39 52 30.0 *
PRODUCTION_DATE 2001 3 18 *
RASTER_ORDER LEFT_RIGHT/TOP_BOTTOM *
BAND_ORGANIZATION "SINGLE FILE" *
BAND_CONTENT BLACK&WHITE *
BITS_PER_PIXEL 8 *
SAMPLES_AND_LINES 6091 7601 *
HORIZONTAL_DATUM NAD83 *
HORIZONTAL_COORDINATE_SYSTEM UTM *
COORDINATE_ZONE 10 *
HORIZONTAL_UNITS METERS *
HORIZONTAL_RESOLUTION 1.0 *
SECONDARY_HORIZONTAL_DATUM NAD27 *
XY_ORIGIN 542320.000 4421280.000 *
SECONDARY_XY_ORIGIN 542415.940 4421084.284 *
NATION US *
STATE CA *
NW_QUAD_CORNER_XY 542718.832 4420940.027 *
NE_QUAD_CORNER_XY 548058.715 4420971.812 *
SE_QUAD_CORNER_XY 548102.407 4414034.976 *
SW_QUAD_CORNER_XY 542757.669 4414003.203 *
SECONDARY_NW_QUAD_XY 542719.953 4420730.115 *
SECONDARY_NE_QUAD_XY 548059.976 4420761.901 *
SECONDARY_SE_QUAD_XY 548103.666 4413825.189 *
SECONDARY_SW_QUAD_XY 542758.789 4413793.416 *
RMSE_XY 0.689 *
IMAGE_SOURCE "Black and White film" *
SOURCE_IMAGE_ID "NAPP 10476-85" *
SOURCE_IMAGE_DATE 1998 08 11 *
SOURCE_DEM_DATE 1967 00 00 *
AGENCY "WESTERN MAPPING CENTER (WMC)" *
PRODUCER "Hammon, Jensen, Wallen & Associates" *
PRODUCTION_SYSTEM "ORTHOVIEW" *
STANDARD_VERSION 1996 12 *
METADATA_DATE 2001 3 18 *
DATA_FILE_SIZE 46303782 *
BYTE_COUNT 6091 * * * * * * * * * * * * * * * * * * * * * * * * * * * * * * * * * *
END_USGS_HEADER *
