FILENAME: C:\temp\paskenta\o39122h5_nw.tif
QUADRANGLE_NAME: PASKENTA
QUADRANT: NW
WEST_LONGITUDE: -122 37 30.00000
EAST_LONGITUDE: -122 33 45.00000
NORTH_LATITUDE: 40 0 0.00000
SOUTH_LATITUDE: 39 56 15.00000
PRODUCTION_DATE: 2000 11 25
RASTER_ORDER: LEFT_RIGHT/TOP_BOTTOM
BAND_ORGANIZATION: SINGLE FILE
BAND_CONTENT: BLACK&WHITE
BAND_CONTENT: UNDEFINED
BAND_CONTENT: UNDEFINED
BITS_PER_PIXEL: 8
SAMPLES_AND_LINES: 6064 7575
HORIZONTAL_DATUM: NAD83
HORIZONTAL_COORDINATE_SYSTEM: UTM
COORDINATE_ZONE: 10
HORIZONTAL_UNITS: METERS
HORIZONTAL_RESOLUTION: 1.00000
SECONDARY_HORIZONTAL_DATUM: NAD27
XY_ORIGIN: 531614.96000 4428148.36800
SECONDARY_XY_ORIGIN: 531710.77000 4427952.45900
NATION: US
STATE: CA
NW_QUAD_CORNER_XY: 532009.92700 4427824.55300
NE_QUAD_CORNER_XY: 537344.93200 4427848.86800
SE_QUAD_CORNERY_XY: 537378.95900 4420911.98100
SW_QUAD_CORNER_XY: 532039.09300 4420887.67500
SECONDARY_NW_QUAD_XY: 532010.76900 4427614.51600
SECONDARY_NE_QUAD_XY: 537345.91400 4427638.83200
SECONDARY_SE_QUAD_XY: 537379.94000 4420702.06900
SECONDARY_SW_QUAD_XY: 532039.93400 4420677.76200
RMSE_XY: 0.80000
IMAGE_SOURCE: BLACK AND WHITE FILM
SOURCE_IMAGE_ID: NAPP 10476 156
SOURCE_IMAGE_DATE: 1998 8 11
SOURCE_IMAGE_ID: NAPP 10476 113
SOURCE_IMAGE_DATE: 1998 8 11
SOURCE_IMAGE_ID: NAPP 10476 115
SOURCE_IMAGE_DATE: 1998 8 11
SOURCE_IMAGE_ID: NAPP 10476 158
SOURCE_IMAGE_DATE: 1998 8 11
SOURCE_IMAGE_ID: NAPP 10476 157
SOURCE_IMAGE_DATE: 1998 8 11
SOURCE_DEM_DATE: 2000 0 0
AGENCY: WESTERN MAPPING CENTER (WMC)
PRODUCER: USDA FS GEOSPATIAL SERVICE AND TECHNOLOGY CENTER
PRODUCTION_SYSTEM: ORBIT OR_RECTIFY V.5.2
COMPRESSION: UNDEFINED
STANDARD_VERSION: 1996 12
METADATA_DATE: 2000 11 25
DATA_FILE_SIZE: 45940864
BYTE_COUNT: 6064
