BEGIN_USGS_DOQ_HEADER *
QUADRANGLE_NAME "BALL MOUNTAIN" *
QUADRANT NW *
WEST_LONGITUDE -122 52 30.000 *
EAST_LONGITUDE -122 48 45.000 *
NORTH_LATITUDE 40 0 0.000 *
SOUTH_LATITUDE 39 56 15.000 *
PRODUCTION_DATE 2000 11 25 *
RASTER_ORDER LEFT_RIGHT/TOP_BOTTOM *
BAND_ORGANIZATION "SINGLE FILE" *
BAND_CONTENT BLACK&WHITE *
BITS_PER_PIXEL 8 *
SAMPLES_AND_LINES 6045 7560 *
HORIZONTAL_DATUM NAD83 *
HORIZONTAL_COORDINATE_SYSTEM UTM *
COORDINATE_ZONE 10 *
HORIZONTAL_UNITS METERS *
HORIZONTAL_RESOLUTION 1.0 *
SECONDARY_HORIZONTAL_DATUM NAD27 *
XY_ORIGIN 510275.063 4428074.052 *
SECONDARY_XY_ORIGIN 510370.753 4427877.956 *
NATION US *
STATE CA *
NW_QUAD_CORNER_XY 510669.964 4427764.700 *
NE_QUAD_CORNER_XY 516004.949 4427774.052 *
SE_QUAD_CORNER_XY 516019.531 4420837.194 *
SW_QUAD_CORNER_XY 510679.685 4420827.846 *
SECONDARY_NW_QUAD_XY 510670.247 4427554.663 *
SECONDARY_NE_QUAD_XY 516005.371 4427564.015 *
SECONDARY_SE_QUAD_XY 516019.954 4420627.280 *
SECONDARY_SW_QUAD_XY 510679.968 4420617.932 *
RMSE_XY 0.80 *
IMAGE_SOURCE "BLACK AND WHITE FILM" *
SOURCE_IMAGE_ID "NAPP 10484 68" *
SOURCE_IMAGE_DATE 1998 9 21 *
SOURCE_IMAGE_ID "NAPP 10484 67" *
SOURCE_IMAGE_DATE 1998 9 21 *
SOURCE_IMAGE_ID "NAPP 10484 69" *
SOURCE_IMAGE_DATE 1998 9 21 *
SOURCE_IMAGE_ID "NAPP 10484 84" *
SOURCE_IMAGE_DATE 1998 9 21 *
SOURCE_IMAGE_ID "NAPP 10484 83" *
SOURCE_IMAGE_DATE 1998 9 21 *
SOURCE_IMAGE_ID "NAPP 10484 82" *
SOURCE_IMAGE_DATE 1998 9 21 *
SOURCE_DEM_DATE 2000 0 0 *
AGENCY "WESTERN MAPPING CENTER (WMC)" *
PRODUCER "USDA FS GEOSPATIAL SERVICE AND TECHNOLOGY CENTER" *
PRODUCTION_SYSTEM "ORBIT OR_RECTIFY V.5.2" *
STANDARD_VERSION 1996 12 *
METADATA_DATE 2000 11 25 *
DATA_FILE_SIZE 45706245 *
BYTE_COUNT 6045 * * * * * * * * * * * * * * * * * * * * * * *
END_USGS_HEADER *
