BEGIN_USGS_DOQ_HEADER *
QUADRANGLE_NAME "PURDYS GARDENS" 3.45 or 7.5-min. name*
QUADRANT NW quadrant indicator if cell size = 3.75-minutes*
WEST_LONGITUDE -123 7 30.000 signed deg min sec SDDD MM SS.SSS*
EAST_LONGITUDE -123 3 45.000 signed deg min sec SDDD MM SS.SSS*
NORTH_LATITUDE 39 7 30.000 signed deg min sec SDDD MM SS.SSS*
SOUTH_LATITUDE 39 3 45.000 signed deg min sec SDDD MM SS.SSS*
PRODUCTION_DATE 1997 9 3 yyyy mm dd*
RASTER_ORDER LEFT_RIGHT/TOP_BOTTOM video display order*
BAND_ORGANIZATION "SINGLE FILE" single file or BSQ, or BIL or BIP*
BAND_CONTENT BLACK&WHITE black&white or red green blue*
BITS_PER_PIXEL 8 radiometric resolution*
SAMPLES_AND_LINES 6111 7556 number of columns and rows*
HORIZONTAL_DATUM NAD83 primary horizontal datum*
HORIZONTAL_COORDINATE_SYSTEM UTM *
COORDINATE_ZONE 10 coordinate system zone number*
HORIZONTAL_UNITS METERS coordinate system units*
HORIZONTAL_RESOLUTION 1.00 pixel horiz. ground sample distance*
SECONDARY_HORIZONTAL_DATUM NAD27 secondary horizontal datum*
XY_ORIGIN 488788.000 4330956.000 coord. of upper left pixel pri. datum*
SECONDARY_XY_ORIGIN 488884.032 4330759.475 coord upper left pixel sec datum*
NATION US nation code*
STATE CA state fip code*
NW_QUAD_CORNER_XY 489195.100 4330655.554 XY coords. of pri. NW quad corner*
NE_QUAD_CORNER_XY 494597.551 4330649.976 XY coords. of pri. NE quad corner*
SE_QUAD_CORNER_XY 494592.780 4323714.171 XY coords. of pri. SE quad corner*
SW_QUAD_CORNER_XY 489185.558 4323719.746 XY coords. of pri. SW quad corner*
SECONDARY_NW_QUAD_XY 489194.822 4330447.320 XY coords. - sec. NW quad cor.*
SECONDARY_NE_QUAD_XY 494597.412 4330441.742 XY coords. - sec. NE quad cor.*
SECONDARY_SE_QUAD_XY 494592.641 4323506.072 XY coords. - sec. SE quad cor.*
SECONDARY_SW_QUAD_XY 489185.280 4323511.648 XY coords. - sec. SW quad cor.*
RMSE_XY 4.20 doq horiz. accuracy*
IMAGE_SOURCE "BLACK AND WHITE FILM" b&w, cir, natural color, other*
SOURCE_IMAGE_ID "NAPP 6362 146" source image id*
SOURCE_IMAGE_DATE 1993 7 11 source image date as yyyy mm dd*
SOURCE_DEM_DATE 1997 9 3 source dem date yyyy mm dd*
AGENCY "WESTERN MAPPING CENTER (WMC)" oversight agency*
PRODUCER "Science Applications International" producer/contractor*
PRODUCTION_SYSTEM "GIS/MAGIC" production system*
STANDARD_VERSION 1996 12 version of DOQ standard*
METADATA_DATE 1997 12 30 date created or changed, yyyy mm dd*
DATA_FILE_SIZE 46180827 data set size in bytes*
BYTE_COUNT 6111 header byte count* * * * * * * * * * * * * * * * * * * * * * * * * * * * * * * * * *
END_USGS_HEADER *
