BEGIN_USGS_DOQ_HEADER *
QUADRANGLE_NAME "PHILO" 3.45 or 7.5-min. name*
QUADRANT SE quadrant indicator if cell size = 3.75-minutes*
WEST_LONGITUDE -123 26 15.000 signed deg min sec SDDD MM SS.SSS*
EAST_LONGITUDE -123 22 30.000 signed deg min sec SDDD MM SS.SSS*
NORTH_LATITUDE 39 3 45.000 signed deg min sec SDDD MM SS.SSS*
SOUTH_LATITUDE 39 0 0.000 signed deg min sec SDDD MM SS.SSS*
PRODUCTION_DATE 2000 10 18 yyyy mm dd*
RASTER_ORDER LEFT_RIGHT/TOP_BOTTOM video display order*
BAND_ORGANIZATION "SINGLE FILE" single file or BSQ, or BIL or BIP*
BAND_CONTENT BLACK&WHITE single file or BSQ, or BIL or BIP*
BITS_PER_PIXEL 8 radiometric resolution*
SAMPLES_AND_LINES 6099 7531 number of columns and rows*
HORIZONTAL_DATUM NAD83 primary horizontal datum*
HORIZONTAL_COORDINATE_SYSTEM UTM horizontal datum name*
COORDINATE_ZONE 10 coordinate system zone number*
HORIZONTAL_UNITS METERS coordinate system units*
HORIZONTAL_RESOLUTION 1.00 pixel horiz. ground sample distance*
SECONDARY_HORIZONTAL_DATUM NAD27 secondary horizontal datum*
XY_ORIGIN 461738.000 4324083.000 coord. of upper left pixel pri. datum*
SECONDARY_XY_ORIGIN 461834.000 4323885.629 coord upper left pixel sec datum*
NATION US nation code*
STATE CA state fip code*
NW_QUAD_CORNER_XY 462149.383 4323803.379 XY coords. of pri. NW quad corner*
NE_QUAD_CORNER_XY 467556.631 4323779.218 XY coords. of pri. NE quad corner*
SE_QUAD_CORNER_XY 467528.044 4316843.458 XY coords. of pri. SE quad corner*
SW_QUAD_CORNER_XY 462116.030 4316867.607 XY coords. of pri. SW quad corner*
SECONDARY_NW_QUAD_XY 462148.411 4323595.282 XY coords. - sec. NW quad cor.*
SECONDARY_NE_QUAD_XY 467555.798 4323571.121 XY coords. - sec. NE quad cor.*
SECONDARY_SE_QUAD_XY 467527.211 4316635.496 XY coords. - sec. SE quad cor.*
SECONDARY_SW_QUAD_XY 462115.060 4316659.647 XY coords. - sec. SW quad cor.*
RMSE_XY 0.10 doq horiz. accuracy*
IMAGE_SOURCE "BLACK AND WHITE FILM" b&w, cir, natural color, other*
SOURCE_IMAGE_ID "NAPP 10528 202" source image id*
SOURCE_IMAGE_DATE 1998 8 24 source image date as yyyy mm dd*
SOURCE_IMAGE_ID "NAPP 10528 201" source image id*
SOURCE_IMAGE_DATE 1998 8 24 source image date as yyyy mm dd*
SOURCE_DEM_DATE 2000 01 01 source dem date yyyy mm dd*
AGENCY "WESTERN MAPPING CENTER (WMC)" oversight agency*
PRODUCER "EARTHDATA INTERNATIONAL" producer/contractor*
PRODUCTION_SYSTEM "SGI AUTOMETRIC" production system*
STANDARD_VERSION 1996 12 version of DOQ standard*
METADATA_DATE 2000 10 18 date created or changed, yyyy mm dd*
DATA_FILE_SIZE 45937668 data set size in bytes*
BYTE_COUNT 6099 header byte count* * * * * * * * * * * * * * * * * * * * * * * * * * * * * * * *
END_USGS_HEADER *
