BEGIN_USGS_DOQ_HEADER *
QUADRANGLE_NAME "COLD SPRING" 3.45 or 7.5-min. name*
QUADRANT SW quadrant indicator if cell size = 3.75-minutes*
WEST_LONGITUDE -123 37 30.000 signed deg min sec SDDD MM SS.SSS*
EAST_LONGITUDE -123 33 45.000 signed deg min sec SDDD MM SS.SSS*
NORTH_LATITUDE 39 3 45.000 signed deg min sec SDDD MM SS.SSS*
SOUTH_LATITUDE 39 0 0.000 signed deg min sec SDDD MM SS.SSS*
PRODUCTION_DATE 2000 10 18 yyyy mm dd*
RASTER_ORDER LEFT_RIGHT/TOP_BOTTOM video display order*
BAND_ORGANIZATION "SINGLE FILE" single file or BSQ, or BIL or BIP*
BAND_CONTENT BLACK&WHITE single file or BSQ, or BIL or BIP*
BITS_PER_PIXEL 8 radiometric resolution*
SAMPLES_AND_LINES 6113 7542 number of columns and rows*
HORIZONTAL_DATUM NAD83 primary horizontal datum*
HORIZONTAL_COORDINATE_SYSTEM UTM horizontal datum name*
COORDINATE_ZONE 10 coordinate system zone number*
HORIZONTAL_UNITS METERS coordinate system units*
HORIZONTAL_RESOLUTION 1.00 pixel horiz. ground sample distance*
SECONDARY_HORIZONTAL_DATUM NAD27 secondary horizontal datum*
XY_ORIGIN 445502.000 4324178.000 coord. of upper left pixel pri. datum*
SECONDARY_XY_ORIGIN 445598.053 4323979.973 coord upper left pixel sec datum*
NATION US nation code*
STATE CA state fip code*
NW_QUAD_CORNER_XY 445927.575 4323898.165 XY coords. of pri. NW quad corner*
NE_QUAD_CORNER_XY 451334.856 4323862.853 XY coords. of pri. NE quad corner*
SE_QUAD_CORNER_XY 451291.974 4316927.053 XY coords. of pri. SE quad corner*
SW_QUAD_CORNER_XY 445879.928 4316962.349 XY coords. of pri. SW quad corner*
SECONDARY_NW_QUAD_XY 445926.187 4323690.071 XY coords. - sec. NW quad cor.*
SECONDARY_NE_QUAD_XY 451333.607 4323654.757 XY coords. - sec. NE quad cor.*
SECONDARY_SE_QUAD_XY 451290.726 4316719.094 XY coords. - sec. SE quad cor.*
SECONDARY_SW_QUAD_XY 445878.541 4316754.391 XY coords. - sec. SW quad cor.*
RMSE_XY 0.10 doq horiz. accuracy*
IMAGE_SOURCE "BLACK AND WHITE FILM" b&w, cir, natural color, other*
SOURCE_IMAGE_ID "NAPP 10530 214" source image id*
SOURCE_IMAGE_DATE 1998 8 26 source image date as yyyy mm dd*
SOURCE_IMAGE_ID "NAPP 10530 215" source image id*
SOURCE_IMAGE_DATE 1998 8 26 source image date as yyyy mm dd*
SOURCE_IMAGE_ID "NAPP 10530 212" source image id*
SOURCE_IMAGE_DATE 1998 8 26 source image date as yyyy mm dd*
SOURCE_DEM_DATE 2000 01 01 source dem date yyyy mm dd*
AGENCY "WESTERN MAPPING CENTER (WMC)" oversight agency*
PRODUCER "EARTHDATA INTERNATIONAL" producer/contractor*
PRODUCTION_SYSTEM "SGI AUTOMETRIC" production system*
STANDARD_VERSION 1996 12 version of DOQ standard*
METADATA_DATE 2000 10 18 date created or changed, yyyy mm dd*
DATA_FILE_SIZE 46110359 data set size in bytes*
BYTE_COUNT 6113 header byte count* * * * * * * * * * * * * * * * * * * * * * * * * * * * * *
END_USGS_HEADER *
