BEGIN_USGS_DOQ_HEADER *
QUADRANGLE_NAME "UKIAH" 3.45 or 7.5-min. name*
QUADRANT SW quadrant indicator if cell size = 3.75-minutes*
WEST_LONGITUDE -123 15 0.000 signed deg min sec SDDD MM SS.SSS*
EAST_LONGITUDE -123 11 15.000 signed deg min sec SDDD MM SS.SSS*
NORTH_LATITUDE 39 11 15.000 signed deg min sec SDDD MM SS.SSS*
SOUTH_LATITUDE 39 7 30.000 signed deg min sec SDDD MM SS.SSS*
PRODUCTION_DATE 1997 9 3 yyyy mm dd*
RASTER_ORDER LEFT_RIGHT/TOP_BOTTOM video display order*
BAND_ORGANIZATION "SINGLE FILE" single file or BSQ, or BIL or BIP*
BAND_CONTENT BLACK&WHITE black&white or red green blue*
BITS_PER_PIXEL 8 radiometric resolution*
SAMPLES_AND_LINES 6116 7563 number of columns and rows*
HORIZONTAL_DATUM NAD83 primary horizontal datum*
HORIZONTAL_COORDINATE_SYSTEM UTM *
COORDINATE_ZONE 10 coordinate system zone number*
HORIZONTAL_UNITS METERS coordinate system units*
HORIZONTAL_RESOLUTION 1.00 pixel horiz. ground sample distance*
SECONDARY_HORIZONTAL_DATUM NAD27 secondary horizontal datum*
XY_ORIGIN 477992.000 4337914.000 coord. of upper left pixel pri. datum*
SECONDARY_XY_ORIGIN 478087.996 4337717.323 coord upper left pixel sec datum*
NATION US nation code*
STATE CA state fip code*
NW_QUAD_CORNER_XY 478409.299 4337613.758 XY coords. of pri. NW quad corner*
NE_QUAD_CORNER_XY 483806.979 4337600.737 XY coords. of pri. NE quad corner*
SE_QUAD_CORNER_XY 483792.646 4330664.850 XY coords. of pri. SE quad corner*
SW_QUAD_CORNER_XY 478390.189 4330677.866 XY coords. of pri. SW quad corner*
SECONDARY_NW_QUAD_XY 478408.743 4337405.390 XY coords. - sec. NW quad cor.*
SECONDARY_NE_QUAD_XY 483806.562 4337392.369 XY coords. - sec. NE quad cor.*
SECONDARY_SE_QUAD_XY 483792.230 4330456.617 XY coords. - sec. SE quad cor.*
SECONDARY_SW_QUAD_XY 478389.633 4330469.633 XY coords. - sec. SW quad cor.*
RMSE_XY 2.30 doq horiz. accuracy*
IMAGE_SOURCE "BLACK AND WHITE FILM" b&w, cir, natural color, other*
SOURCE_IMAGE_ID "NAPP 6362 209" source image id*
SOURCE_IMAGE_DATE 1993 7 11 source image date as yyyy mm dd*
IMAGE_SOURCE "BLACK AND WHITE FILM" b&w, cir, natural color, other*
SOURCE_IMAGE_ID "NAPP 6362 210" source image id*
SOURCE_IMAGE_DATE 1993 7 11 source image date as yyyy mm dd*
IMAGE_SOURCE "BLACK AND WHITE FILM" b&w, cir, natural color, other*
SOURCE_IMAGE_ID "NAPP 6362 208" source image id*
SOURCE_IMAGE_DATE 1993 7 11 source image date as yyyy mm dd*
SOURCE_DEM_DATE 1997 9 3 source dem date yyyy mm dd*
AGENCY "WESTERN MAPPING CENTER (WMC)" oversight agency*
PRODUCER "Science Applications International" producer/contractor*
PRODUCTION_SYSTEM "GIS/MAGIC" production system*
STANDARD_VERSION 1996 12 version of DOQ standard*
METADATA_DATE 1997 12 30 date created or changed, yyyy mm dd*
DATA_FILE_SIZE 46261424 data set size in bytes*
BYTE_COUNT 6116 header byte count* * * * * * * * * * * * * * * * * * * * * * * * * * * *
END_USGS_HEADER *
