BEGIN_USGS_DOQ_HEADER *
QUADRANGLE_NAME "ALBION" 3.45 or 7.5-min. name*
QUADRANT NE quadrant indicator if cell size = 3.75-minutes*
WEST_LONGITUDE -123 48 45.000 signed deg min sec SDDD MM SS.SSS*
EAST_LONGITUDE -123 45 0.000 signed deg min sec SDDD MM SS.SSS*
NORTH_LATITUDE 39 15 0.000 signed deg min sec SDDD MM SS.SSS*
SOUTH_LATITUDE 39 11 15.000 signed deg min sec SDDD MM SS.SSS*
PRODUCTION_DATE 2000 8 10 yyyy mm dd*
RASTER_ORDER LEFT_RIGHT/TOP_BOTTOM video display order*
BAND_ORGANIZATION "SINGLE FILE" single file or BSQ, or BIL or BIP*
BAND_CONTENT BLACK&WHITE single file or BSQ, or BIL or BIP*
BITS_PER_PIXEL 8 radiometric resolution*
SAMPLES_AND_LINES 6113 7553 number of columns and rows*
HORIZONTAL_DATUM NAD83 primary horizontal datum*
HORIZONTAL_COORDINATE_SYSTEM UTM horizontal datum name*
COORDINATE_ZONE 10 coordinate system zone number*
HORIZONTAL_UNITS METERS coordinate system units*
HORIZONTAL_RESOLUTION 1.00 pixel horiz. ground sample distance*
SECONDARY_HORIZONTAL_DATUM NAD27 secondary horizontal datum*
XY_ORIGIN 429452.000 4345114.000 coord. of upper left pixel pri. datum*
SECONDARY_XY_ORIGIN 429547.448 4344915.794 coord upper left pixel sec datum*
NATION US nation code*
STATE CA state fip code*
NW_QUAD_CORNER_XY 429891.982 4344834.474 XY coords. of pri. NW quad corner*
NE_QUAD_CORNER_XY 435284.971 4344787.945 XY coords. of pri. NE quad corner*
SE_QUAD_CORNER_XY 435227.561 4337851.871 XY coords. of pri. SE quad corner*
SW_QUAD_CORNER_XY 429829.787 4337898.379 XY coords. of pri. SW quad corner*
SECONDARY_NW_QUAD_XY 429890.174 4344625.980 XY coords. - sec. NW quad cor.*
SECONDARY_NE_QUAD_XY 435283.302 4344579.450 XY coords. - sec. NE quad cor.*
SECONDARY_SE_QUAD_XY 435225.893 4337643.509 XY coords. - sec. SE quad cor.*
SECONDARY_SW_QUAD_XY 429827.980 4337690.019 XY coords. - sec. SW quad cor.*
RMSE_XY 0.10 doq horiz. accuracy*
IMAGE_SOURCE "BLACK AND WHITE FILM" b&w, cir, natural color, other*
SOURCE_IMAGE_ID "NAPP 10534 097" source image id*
SOURCE_IMAGE_DATE 1998 9 11 source image date as yyyy mm dd*
SOURCE_DEM_DATE 1960 01 01 source dem date yyyy mm dd*
AGENCY "WESTERN MAPPING CENTER (WMC)" oversight agency*
PRODUCER "EARTHDATA INTERNATIONAL" producer/contractor*
PRODUCTION_SYSTEM "SGI AUTOMETRIC" production system*
STANDARD_VERSION 1996 12 version of DOQ standard*
METADATA_DATE 2000 8 10 date created or changed, yyyy mm dd*
DATA_FILE_SIZE 46177602 data set size in bytes*
BYTE_COUNT 6113 header byte count* * * * * * * * * * * * * * * * * * * * * * * * * * * * * * * * * *
END_USGS_HEADER *
