BEGIN_USGS_DOQ_HEADER *
QUADRANGLE_NAME "POTTER VALLEY" *
QUADRANT SE *
WEST_LONGITUDE -123 3 45.000 *
EAST_LONGITUDE -123 0 0.000 *
NORTH_LATITUDE 39 18 45.000 *
SOUTH_LATITUDE 39 15 0.000 *
PRODUCTION_DATE 2000 11 25 *
RASTER_ORDER LEFT_RIGHT/TOP_BOTTOM *
BAND_ORGANIZATION "SINGLE FILE" *
BAND_CONTENT BLACK&WHITE *
BITS_PER_PIXEL 8 *
SAMPLES_AND_LINES 6089 7550 *
HORIZONTAL_DATUM NAD83 *
HORIZONTAL_COORDINATE_SYSTEM UTM *
COORDINATE_ZONE 10 *
HORIZONTAL_UNITS METERS *
HORIZONTAL_RESOLUTION 1.0 *
SECONDARY_HORIZONTAL_DATUM NAD27 *
XY_ORIGIN 494211.656 4351757.838 *
SECONDARY_XY_ORIGIN 494307.480 4351561.705 *
NATION US *
STATE CA *
NW_QUAD_CORNER_XY 494611.902 4351457.838 *
NE_QUAD_CORNER_XY 500000.000 4351455.976 *
SE_QUAD_CORNER_XY 500000.000 4344519.948 *
SW_QUAD_CORNER_XY 494607.112 4344521.809 *
SECONDARY_NW_QUAD_XY 494611.765 4351249.202 *
SECONDARY_NE_QUAD_XY 500000.003 4351247.341 *
SECONDARY_SE_QUAD_XY 500000.003 4344311.445 *
SECONDARY_SW_QUAD_XY 494606.976 4344313.306 *
RMSE_XY 0.80 *
IMAGE_SOURCE "BLACK AND WHITE FILM" *
SOURCE_IMAGE_ID "NAPP 10528 8" *
SOURCE_IMAGE_DATE 1998 8 24 *
SOURCE_IMAGE_ID "NAPP 10528 9" *
SOURCE_IMAGE_DATE 1998 8 24 *
SOURCE_IMAGE_ID "NAPP 10528 7" *
SOURCE_IMAGE_DATE 1998 8 24 *
SOURCE_IMAGE_ID "NAPP 10528 62" *
SOURCE_IMAGE_DATE 1998 8 24 *
SOURCE_IMAGE_ID "NAPP 10528 63" *
SOURCE_IMAGE_DATE 1998 8 24 *
SOURCE_IMAGE_ID "NAPP 10528 64" *
SOURCE_IMAGE_DATE 1998 8 24 *
SOURCE_DEM_DATE 2000 0 0 *
AGENCY "WESTERN MAPPING CENTER (WMC)" *
PRODUCER "USDA FS GEOSPATIAL SERVICE AND TECHNOLOGY CENTER" *
PRODUCTION_SYSTEM "ORBIT OR_RECTIFY V.5.2" *
STANDARD_VERSION 1996 12 *
METADATA_DATE 2000 11 25 *
DATA_FILE_SIZE 45978039 *
BYTE_COUNT 6089 * * * * * * * * * * * * * * * * * * * * * * * *
END_USGS_HEADER *
