BEGIN_USGS_DOQ_HEADER *
QUADRANGLE_NAME "REDWOOD VALLEY" 3.45 or 7.5-min. name*
QUADRANT NE quadrant indicator if cell size = 3.75-minutes*
WEST_LONGITUDE -123 11 15.000 signed deg min sec SDDD MM SS.SSS*
EAST_LONGITUDE -123 7 30.000 signed deg min sec SDDD MM SS.SSS*
NORTH_LATITUDE 39 22 30.000 signed deg min sec SDDD MM SS.SSS*
SOUTH_LATITUDE 39 18 45.000 signed deg min sec SDDD MM SS.SSS*
PRODUCTION_DATE 1997 9 3 yyyy mm dd*
RASTER_ORDER LEFT_RIGHT/TOP_BOTTOM video display order*
BAND_ORGANIZATION "SINGLE FILE" single file or BSQ, or BIL or BIP*
BAND_CONTENT BLACK&WHITE black&white or red green blue*
BITS_PER_PIXEL 8 radiometric resolution*
SAMPLES_AND_LINES 6097 7560 number of columns and rows*
HORIZONTAL_DATUM NAD83 primary horizontal datum*
HORIZONTAL_COORDINATE_SYSTEM UTM *
COORDINATE_ZONE 10 coordinate system zone number*
HORIZONTAL_UNITS METERS coordinate system units*
HORIZONTAL_RESOLUTION 1.00 pixel horiz. ground sample distance*
SECONDARY_HORIZONTAL_DATUM NAD27 secondary horizontal datum*
XY_ORIGIN 483438.000 4358709.000 coord. of upper left pixel pri. datum*
SECONDARY_XY_ORIGIN 483533.869 4358512.746 coord upper left pixel sec datum*
NATION US nation code*
STATE CA state fip code*
NW_QUAD_CORNER_XY 483850.091 4358408.843 XY coords. of pri. NW quad corner*
NE_QUAD_CORNER_XY 489233.396 4358399.529 XY coords. of pri. NE quad corner*
SE_QUAD_CORNER_XY 489223.803 4351463.423 XY coords. of pri. SE quad corner*
SW_QUAD_CORNER_XY 483835.701 4351472.733 XY coords. of pri. SW quad corner*
SECONDARY_NW_QUAD_XY 483849.673 4358200.077 XY coords. - sec. NW quad cor.*
SECONDARY_NE_QUAD_XY 489233.118 4358190.763 XY coords. - sec. NE quad cor.*
SECONDARY_SE_QUAD_XY 489223.524 4351254.789 XY coords. - sec. SE quad cor.*
SECONDARY_SW_QUAD_XY 483835.283 4351264.099 XY coords. - sec. SW quad cor.*
RMSE_XY 3.70 doq horiz. accuracy*
IMAGE_SOURCE "BLACK AND WHITE FILM" b&w, cir, natural color, other*
SOURCE_IMAGE_ID "NAPP 6362 192" source image id*
SOURCE_IMAGE_DATE 1993 7 11 source image date as yyyy mm dd*
SOURCE_DEM_DATE 1997 9 3 source dem date yyyy mm dd*
AGENCY "WESTERN MAPPING CENTER (WMC)" oversight agency*
PRODUCER "Science Applications International" producer/contractor*
PRODUCTION_SYSTEM "GIS/MAGIC" production system*
STANDARD_VERSION 1996 12 version of DOQ standard*
METADATA_DATE 1997 12 30 date created or changed, yyyy mm dd*
DATA_FILE_SIZE 46099417 data set size in bytes*
BYTE_COUNT 6097 header byte count* * * * * * * * * * * * * * * * * * * * * * * * * * * * * * * * * *
END_USGS_HEADER *
