BEGIN_USGS_DOQ_HEADER *
QUADRANGLE_NAME "LAUGHLIN RANGE" 3.45 or 7.5-min. name*
QUADRANT SE quadrant indicator if cell size = 3.75-minutes*
WEST_LONGITUDE -123 18 45.000 signed deg min sec SDDD MM SS.SSS*
EAST_LONGITUDE -123 15 0.000 signed deg min sec SDDD MM SS.SSS*
NORTH_LATITUDE 39 18 45.000 signed deg min sec SDDD MM SS.SSS*
SOUTH_LATITUDE 39 15 0.000 signed deg min sec SDDD MM SS.SSS*
PRODUCTION_DATE 1997 6 30 yyyy mm dd*
RASTER_ORDER LEFT_RIGHT/TOP_BOTTOM video display order*
BAND_ORGANIZATION "SINGLE FILE" single file or BSQ, or BIL or BIP*
BAND_CONTENT BLACK&WHITE black&white or red green blue*
BITS_PER_PIXEL 8 radiometric resolution*
SAMPLES_AND_LINES 6112 7568 number of columns and rows*
HORIZONTAL_DATUM NAD83 primary horizontal datum*
HORIZONTAL_COORDINATE_SYSTEM UTM *
COORDINATE_ZONE 10 coordinate system zone number*
HORIZONTAL_UNITS METERS coordinate system units*
HORIZONTAL_RESOLUTION 1.00 pixel horiz. ground sample distance*
SECONDARY_HORIZONTAL_DATUM NAD27 secondary horizontal datum*
XY_ORIGIN 472637.000 4351803.000 coord. of upper left pixel pri. datum*
SECONDARY_XY_ORIGIN 472732.843 4351606.357 coord upper left pixel sec datum*
NATION US nation code*
STATE CA state fip code*
NW_QUAD_CORNER_XY 473059.485 4351502.522 XY coords. of pri. NW quad corner*
NE_QUAD_CORNER_XY 478447.595 4351485.766 XY coords. of pri. NE quad corner*
SE_QUAD_CORNER_XY 478428.434 4344549.725 XY coords. of pri. SE quad corner*
SW_QUAD_CORNER_XY 473035.533 4344566.474 XY coords. of pri. SW quad corner*
SECONDARY_NW_QUAD_XY 473058.789 4351293.889 XY coords. - sec. NW quad cor.*
SECONDARY_NE_QUAD_XY 478447.039 4351277.132 XY coords. - sec. NE quad cor.*
SECONDARY_SE_QUAD_XY 478427.878 4344341.224 XY coords. - sec. SE quad cor.*
SECONDARY_SW_QUAD_XY 473034.838 4344357.973 XY coords. - sec. SW quad cor.*
RMSE_XY 3.30 doq horiz. accuracy*
IMAGE_SOURCE "BLACK AND WHITE FILM" b&w, cir, natural color, other*
SOURCE_IMAGE_ID "NAPP 6363 026" source image id*
SOURCE_IMAGE_DATE 1993 7 12 source image date as yyyy mm dd*
IMAGE_SOURCE "BLACK AND WHITE FILM" b&w, cir, natural color, other*
SOURCE_IMAGE_ID "NAPP 6363 025" source image id*
SOURCE_IMAGE_DATE 1993 7 12 source image date as yyyy mm dd*
SOURCE_DEM_DATE 1997 6 30 source dem date yyyy mm dd*
AGENCY "WESTERN MAPPING CENTER (WMC)" oversight agency*
PRODUCER "Science Applications International" producer/contractor*
PRODUCTION_SYSTEM "GIS/MAGIC" production system*
STANDARD_VERSION 1996 12 version of DOQ standard*
METADATA_DATE 1997 12 30 date created or changed, yyyy mm dd*
DATA_FILE_SIZE 46261728 data set size in bytes*
BYTE_COUNT 6112 header byte count* * * * * * * * * * * * * * * * * * * * * * * * * * * * * * *
END_USGS_HEADER *
