BEGIN_USGS_DOQ_HEADER *
QUADRANGLE_NAME "MENDOCINO" 3.45 or 7.5-min. name*
QUADRANT NW quadrant indicator if cell size = 3.75-minutes*
WEST_LONGITUDE -123 52 30.000 signed deg min sec SDDD MM SS.SSS*
EAST_LONGITUDE -123 48 45.000 signed deg min sec SDDD MM SS.SSS*
NORTH_LATITUDE 39 22 30.000 signed deg min sec SDDD MM SS.SSS*
SOUTH_LATITUDE 39 18 45.000 signed deg min sec SDDD MM SS.SSS*
PRODUCTION_DATE 2000 8 10 yyyy mm dd*
RASTER_ORDER LEFT_RIGHT/TOP_BOTTOM video display order*
BAND_ORGANIZATION "SINGLE FILE" single file or BSQ, or BIL or BIP*
BAND_CONTENT BLACK&WHITE single file or BSQ, or BIL or BIP*
BITS_PER_PIXEL 8 radiometric resolution*
SAMPLES_AND_LINES 6109 7557 number of columns and rows*
HORIZONTAL_DATUM NAD83 primary horizontal datum*
HORIZONTAL_COORDINATE_SYSTEM UTM horizontal datum name*
COORDINATE_ZONE 10 coordinate system zone number*
HORIZONTAL_UNITS METERS coordinate system units*
HORIZONTAL_RESOLUTION 1.00 pixel horiz. ground sample distance*
SECONDARY_HORIZONTAL_DATUM NAD27 secondary horizontal datum*
XY_ORIGIN 424188.000 4359037.000 coord. of upper left pixel pri. datum*
SECONDARY_XY_ORIGIN 424283.380 4358839.162 coord upper left pixel sec datum*
NATION US nation code*
STATE CA state fip code*
NW_QUAD_CORNER_XY 424633.207 4358757.179 XY coords. of pri. NW quad corner*
NE_QUAD_CORNER_XY 430016.623 4358706.883 XY coords. of pri. NE quad corner*
SE_QUAD_CORNER_XY 429954.261 4351770.642 XY coords. of pri. SE quad corner*
SW_QUAD_CORNER_XY 424566.046 4351820.916 XY coords. of pri. SW quad corner*
SECONDARY_NW_QUAD_XY 424631.257 4358548.423 XY coords. - sec. NW quad cor.*
SECONDARY_NE_QUAD_XY 430014.813 4358498.125 XY coords. - sec. NE quad cor.*
SECONDARY_SE_QUAD_XY 429952.451 4351562.015 XY coords. - sec. SE quad cor.*
SECONDARY_SW_QUAD_XY 424564.098 4351612.291 XY coords. - sec. SW quad cor.*
RMSE_XY 0.10 doq horiz. accuracy*
IMAGE_SOURCE "BLACK AND WHITE FILM" b&w, cir, natural color, other*
SOURCE_IMAGE_ID "NAPP 10534 112" source image id*
SOURCE_IMAGE_DATE 1998 9 11 source image date as yyyy mm dd*
SOURCE_DEM_DATE 1978 01 01 source dem date yyyy mm dd*
AGENCY "WESTERN MAPPING CENTER (WMC)" oversight agency*
PRODUCER "EARTHDATA INTERNATIONAL" producer/contractor*
PRODUCTION_SYSTEM "SGI AUTOMETRIC" production system*
STANDARD_VERSION 1996 12 version of DOQ standard*
METADATA_DATE 2000 8 10 date created or changed, yyyy mm dd*
DATA_FILE_SIZE 46171822 data set size in bytes*
BYTE_COUNT 6109 header byte count* * * * * * * * * * * * * * * * * * * * * * * * * * * * * * * * * *
END_USGS_HEADER *
