BEGIN_USGS_DOQ_HEADER *
QUADRANGLE_NAME "VAN ARSDALE RESERVOIR" 3.45 or 7.5-min. name*
QUADRANT NW quadrant indicator if cell size = 3.75-minutes*
WEST_LONGITUDE -123 7 30.000 signed deg min sec SDDD MM SS.SSS*
EAST_LONGITUDE -123 3 45.000 signed deg min sec SDDD MM SS.SSS*
NORTH_LATITUDE 39 30 0.000 signed deg min sec SDDD MM SS.SSS*
SOUTH_LATITUDE 39 26 15.000 signed deg min sec SDDD MM SS.SSS*
PRODUCTION_DATE 1996 7 29 yyyy mm dd*
RASTER_ORDER LEFT_RIGHT/TOP_BOTTOM video display order*
BAND_ORGANIZATION "SINGLE FILE" single file or BSQ, or BIL or BIP*
BAND_CONTENT BLACK&WHITE black&white or red green blue*
BITS_PER_PIXEL 8 radiometric resolution*
SAMPLES_AND_LINES 6120 7590 number of columns and rows*
HORIZONTAL_DATUM NAD83 primary horizontal datum*
HORIZONTAL_COORDINATE_SYSTEM UTM *
COORDINATE_ZONE 10 coordinate system zone number*
HORIZONTAL_UNITS METERS coordinate system units*
HORIZONTAL_RESOLUTION 1.00 pixel horiz. ground sample distance*
SECONDARY_HORIZONTAL_DATUM NAD27 secondary horizontal datum*
XY_ORIGIN 488820.000 4372590.000 coord. of upper left pixel pri. datum*
SECONDARY_XY_ORIGIN 488915.828 4372394.129 coord upper left pixel sec datum*
NATION US nation code*
STATE CA state fip code*
NW_QUAD_CORNER_XY 489252.622 4372271.965 XY coords. of pri. NW quad corner*
NE_QUAD_CORNER_XY 494626.311 4372266.372 XY coords. of pri. NE quad corner*
SE_QUAD_CORNER_XY 494621.502 4365330.119 XY coords. of pri. SE quad corner*
SW_QUAD_CORNER_XY 489243.003 4365335.710 XY coords. of pri. SW quad corner*
SECONDARY_NW_QUAD_XY 489252.343 4372062.938 XY coords. - sec. NW quad cor.*
SECONDARY_NE_QUAD_XY 494626.172 4372057.345 XY coords. - sec. NE quad cor.*
SECONDARY_SE_QUAD_XY 494621.363 4365121.222 XY coords. - sec. SE quad cor.*
SECONDARY_SW_QUAD_XY 489242.724 4365126.813 XY coords. - sec. SW quad cor.*
RMSE_XY 4.70 doq horiz. accuracy*
IMAGE_SOURCE "BLACK AND WHITE FILM" b&w, cir, natural color, other*
SOURCE_IMAGE_ID "NAPP 6362 134" source image id*
SOURCE_IMAGE_DATE 1993 7 11 source image date as yyyy mm dd*
SOURCE_DEM_DATE 1996 7 29 source dem date yyyy mm dd*
AGENCY "WESTERN MAPPING CENTER (WMC)" oversight agency*
PRODUCER "Analytical Surveys" producer/contractor*
PRODUCTION_SYSTEM "ORBIT OR_RECTIFY V.5.2" production system*
STANDARD_VERSION 1996 12 version of DOQ standard*
METADATA_DATE 1997 7 22 date created or changed, yyyy mm dd*
DATA_FILE_SIZE 46456920 data set size in bytes*
BYTE_COUNT 6120 header byte count* * * * * * * * * * * * * * * * * * * * * * * * * * * * * * * * * *
END_USGS_HEADER *
