BEGIN_USGS_DOQ_HEADER *
QUADRANGLE_NAME "VAN ARSDALE RESERVOIR" *
QUADRANT SW *
WEST_LONGITUDE -123 7 30.000 *
EAST_LONGITUDE -123 3 45.000 *
NORTH_LATITUDE 39 26 15.000 *
SOUTH_LATITUDE 39 22 30.000 *
PRODUCTION_DATE 2000 11 25 *
RASTER_ORDER LEFT_RIGHT/TOP_BOTTOM *
BAND_ORGANIZATION "SINGLE FILE" *
BAND_CONTENT BLACK&WHITE *
BITS_PER_PIXEL 8 *
SAMPLES_AND_LINES 6084 7554 *
HORIZONTAL_DATUM NAD83 *
HORIZONTAL_COORDINATE_SYSTEM UTM *
COORDINATE_ZONE 10 *
HORIZONTAL_UNITS METERS *
HORIZONTAL_RESOLUTION 1.0 *
SECONDARY_HORIZONTAL_DATUM NAD27 *
XY_ORIGIN 488837.273 4365635.710 *
SECONDARY_XY_ORIGIN 488933.121 4365439.665 *
NATION US *
STATE CA *
NW_QUAD_CORNER_XY 489243.003 4365335.710 *
NE_QUAD_CORNER_XY 494621.502 4365330.119 *
SE_QUAD_CORNER_XY 494616.699 4358393.941 *
SW_QUAD_CORNER_XY 489233.396 4358399.529 *
SECONDARY_NW_QUAD_XY 489242.726 4365126.812 *
SECONDARY_NE_QUAD_XY 494621.365 4365121.221 *
SECONDARY_SE_QUAD_XY 494616.562 4358185.174 *
SECONDARY_SW_QUAD_XY 489233.120 4358190.762 *
RMSE_XY 0.80 *
IMAGE_SOURCE "BLACK AND WHITE FILM" *
SOURCE_IMAGE_ID "NAPP 10528 67" *
SOURCE_IMAGE_DATE 1998 8 24 *
SOURCE_IMAGE_ID "NAPP 10528 66" *
SOURCE_IMAGE_DATE 1998 8 24 *
SOURCE_IMAGE_ID "NAPP 10528 68" *
SOURCE_IMAGE_DATE 1998 8 24 *
SOURCE_IMAGE_ID "NAPP 10528 5" *
SOURCE_IMAGE_DATE 1998 8 24 *
SOURCE_IMAGE_ID "NAPP 10528 4" *
SOURCE_IMAGE_DATE 1998 8 24 *
SOURCE_IMAGE_ID "NAPP 10528 3" *
SOURCE_IMAGE_DATE 1998 8 24 *
SOURCE_DEM_DATE 2000 0 0 *
AGENCY "WESTERN MAPPING CENTER (WMC)" *
PRODUCER "USDA FS GEOSPATIAL SERVICE AND TECHNOLOGY CENTER" *
PRODUCTION_SYSTEM "ORBIT OR_RECTIFY V.5.2" *
STANDARD_VERSION 1996 12 *
METADATA_DATE 2000 11 25 *
DATA_FILE_SIZE 45964620 *
BYTE_COUNT 6084 * * * * * * * * * * * * * * * * * * * * * * * *
END_USGS_HEADER *
