BEGIN_USGS_DOQ_HEADER *
QUADRANGLE_NAME "FOSTER MOUNTAIN" *
QUADRANT NE *
WEST_LONGITUDE -123 11 15.000 *
EAST_LONGITUDE -123 7 30.000 *
NORTH_LATITUDE 39 30 0.000 *
SOUTH_LATITUDE 39 26 15.000 *
PRODUCTION_DATE 2000 11 15 *
RASTER_ORDER LEFT_RIGHT/TOP_BOTTOM *
BAND_ORGANIZATION "SINGLE FILE" *
BAND_CONTENT BLACK&WHITE *
BITS_PER_PIXEL 8 *
SAMPLES_AND_LINES 6084 7558 *
HORIZONTAL_DATUM NAD83 *
HORIZONTAL_COORDINATE_SYSTEM UTM *
COORDINATE_ZONE 10 *
HORIZONTAL_UNITS METERS *
HORIZONTAL_RESOLUTION 1.0 *
SECONDARY_HORIZONTAL_DATUM NAD27 *
XY_ORIGIN 483468.218 4372581.286 *
SECONDARY_XY_ORIGIN 483564.082 4372385.250 *
NATION US *
STATE CA *
NW_QUAD_CORNER_XY 483878.929 4372281.286 *
NE_QUAD_CORNER_XY 489252.622 4372271.965 *
SE_QUAD_CORNER_XY 489243.003 4365335.710 *
SW_QUAD_CORNER_XY 483864.501 4365345.027 *
SECONDARY_NW_QUAD_XY 483878.514 4372072.259 *
SECONDARY_NE_QUAD_XY 489252.345 4372062.937 *
SECONDARY_SE_QUAD_XY 489242.726 4365126.812 *
SECONDARY_SW_QUAD_XY 483864.085 4365136.130 *
RMSE_XY 0.30 *
IMAGE_SOURCE "BLACK AND WHITE FILM" *
SOURCE_IMAGE_ID "NAPP 10528 72" *
SOURCE_IMAGE_DATE 1998 8 24 *
SOURCE_IMAGE_ID "NAPP 10528 73" *
SOURCE_IMAGE_DATE 1998 8 24 *
SOURCE_IMAGE_ID "NAPP 10528 71" *
SOURCE_IMAGE_DATE 1998 8 24 *
SOURCE_IMAGE_ID "NAPP 10528 126" *
SOURCE_IMAGE_DATE 1998 8 24 *
SOURCE_IMAGE_ID "NAPP 10528 127" *
SOURCE_IMAGE_DATE 1998 8 24 *
SOURCE_IMAGE_ID "NAPP 10477 214" *
SOURCE_IMAGE_DATE 1998 8 12 *
SOURCE_DEM_DATE 2000 0 0 *
AGENCY "WESTERN MAPPING CENTER (WMC)" *
PRODUCER "USDA FS GEOSPATIAL SERVICE AND TECHNOLOGY CENTER" *
PRODUCTION_SYSTEM "ORBIT OR_RECTIFY V.5.2" *
STANDARD_VERSION 1996 12 *
METADATA_DATE 2000 11 14 *
DATA_FILE_SIZE 45988956 *
BYTE_COUNT 6084 * * * * * * * * * * * * * * * * * * * * * * * *
END_USGS_HEADER *
