BEGIN_USGS_DOQ_HEADER *
QUADRANGLE_NAME "FOSTER MOUNTAIN" *
QUADRANT NW *
WEST_LONGITUDE -123 15 0.000 *
EAST_LONGITUDE -123 11 15.000 *
NORTH_LATITUDE 39 30 0.000 *
SOUTH_LATITUDE 39 26 15.000 *
PRODUCTION_DATE 2000 11 15 *
RASTER_ORDER LEFT_RIGHT/TOP_BOTTOM *
BAND_ORGANIZATION "SINGLE FILE" *
BAND_CONTENT BLACK&WHITE *
BITS_PER_PIXEL 8 *
SAMPLES_AND_LINES 6089 7562 *
HORIZONTAL_DATUM NAD83 *
HORIZONTAL_COORDINATE_SYSTEM UTM *
COORDINATE_ZONE 10 *
HORIZONTAL_UNITS METERS *
HORIZONTAL_RESOLUTION 1.0 *
SECONDARY_HORIZONTAL_DATUM NAD27 *
XY_ORIGIN 478090.053 4372594.336 *
SECONDARY_XY_ORIGIN 478185.928 4372398.208 *
NATION US *
STATE CA *
NW_QUAD_CORNER_XY 478505.233 4372294.336 *
NE_QUAD_CORNER_XY 483878.929 4372281.286 *
SE_QUAD_CORNER_XY 483864.501 4365345.027 *
SW_QUAD_CORNER_XY 478485.995 4365358.072 *
SECONDARY_NW_QUAD_XY 478504.677 4372085.309 *
SECONDARY_NE_QUAD_XY 483878.514 4372072.259 *
SECONDARY_SE_QUAD_XY 483864.085 4365136.130 *
SECONDARY_SW_QUAD_XY 478485.439 4365149.174 *
RMSE_XY 0.30 *
IMAGE_SOURCE "BLACK AND WHITE FILM" *
SOURCE_IMAGE_ID "NAPP 10528 127" *
SOURCE_IMAGE_DATE 1998 8 24 *
SOURCE_IMAGE_ID "NAPP 10528 126" *
SOURCE_IMAGE_DATE 1998 8 24 *
SOURCE_IMAGE_ID "NAPP 10477 214" *
SOURCE_IMAGE_DATE 1998 8 12 *
SOURCE_IMAGE_ID "NAPP 10528 73" *
SOURCE_IMAGE_DATE 1998 8 24 *
SOURCE_IMAGE_ID "NAPP 10528 72" *
SOURCE_IMAGE_DATE 1998 8 24 *
SOURCE_IMAGE_ID "NAPP 10528 71" *
SOURCE_IMAGE_DATE 1998 8 24 *
SOURCE_DEM_DATE 2000 0 0 *
AGENCY "WESTERN MAPPING CENTER (WMC)" *
PRODUCER "USDA FS GEOSPATIAL SERVICE AND TECHNOLOGY CENTER" *
PRODUCTION_SYSTEM "ORBIT OR_RECTIFY V.5.2" *
STANDARD_VERSION 1996 12 *
METADATA_DATE 2000 11 14 *
DATA_FILE_SIZE 46051107 *
BYTE_COUNT 6089 * * * * * * * * * * * * * * * * * * * * * * * *
END_USGS_HEADER *
