BEGIN_USGS_DOQ_HEADER *
QUADRANGLE_NAME "FOSTER MOUNTAIN" *
QUADRANT SE *
WEST_LONGITUDE -123 11 15.000 *
EAST_LONGITUDE -123 7 30.000 *
NORTH_LATITUDE 39 26 15.000 *
SOUTH_LATITUDE 39 22 30.000 *
PRODUCTION_DATE 2000 11 15 *
RASTER_ORDER LEFT_RIGHT/TOP_BOTTOM *
BAND_ORGANIZATION "SINGLE FILE" *
BAND_CONTENT BLACK&WHITE *
BITS_PER_PIXEL 8 *
SAMPLES_AND_LINES 6089 7558 *
HORIZONTAL_DATUM NAD83 *
HORIZONTAL_COORDINATE_SYSTEM UTM *
COORDINATE_ZONE 10 *
HORIZONTAL_UNITS METERS *
HORIZONTAL_RESOLUTION 1.0 *
SECONDARY_HORIZONTAL_DATUM NAD27 *
XY_ORIGIN 483454.307 4365645.027 *
SECONDARY_XY_ORIGIN 483550.175 4365448.885 *
NATION US *
STATE CA *
NW_QUAD_CORNER_XY 483864.501 4365345.027 *
NE_QUAD_CORNER_XY 489243.003 4365335.710 *
SE_QUAD_CORNER_XY 489233.396 4358399.529 *
SW_QUAD_CORNER_XY 483850.091 4358408.843 *
SECONDARY_NW_QUAD_XY 483864.085 4365136.130 *
SECONDARY_NE_QUAD_XY 489242.726 4365126.812 *
SECONDARY_SE_QUAD_XY 489233.120 4358190.762 *
SECONDARY_SW_QUAD_XY 483849.676 4358200.076 *
RMSE_XY 0.30 *
IMAGE_SOURCE "BLACK AND WHITE FILM" *
SOURCE_IMAGE_ID "NAPP 10528 74" *
SOURCE_IMAGE_DATE 1998 8 24 *
SOURCE_IMAGE_ID "NAPP 10528 75" *
SOURCE_IMAGE_DATE 1998 8 24 *
SOURCE_IMAGE_ID "NAPP 10528 73" *
SOURCE_IMAGE_DATE 1998 8 24 *
SOURCE_IMAGE_ID "NAPP 10528 124" *
SOURCE_IMAGE_DATE 1998 8 24 *
SOURCE_IMAGE_ID "NAPP 10528 125" *
SOURCE_IMAGE_DATE 1998 8 24 *
SOURCE_IMAGE_ID "NAPP 10528 126" *
SOURCE_IMAGE_DATE 1998 8 24 *
SOURCE_DEM_DATE 2000 0 0 *
AGENCY "WESTERN MAPPING CENTER (WMC)" *
PRODUCER "USDA FS GEOSPATIAL SERVICE AND TECHNOLOGY CENTER" *
PRODUCTION_SYSTEM "ORBIT OR_RECTIFY V.5.2" *
STANDARD_VERSION 1996 12 *
METADATA_DATE 2000 11 14 *
DATA_FILE_SIZE 46026751 *
BYTE_COUNT 6089 * * * * * * * * * * * * * * * * * * * * * * * *
END_USGS_HEADER *
