BEGIN_USGS_DOQ_HEADER *
QUADRANGLE_NAME "FOSTER MOUNTAIN" *
QUADRANT SW *
WEST_LONGITUDE -123 15 0.000 *
EAST_LONGITUDE -123 11 15.000 *
NORTH_LATITUDE 39 26 15.000 *
SOUTH_LATITUDE 39 22 30.000 *
PRODUCTION_DATE 2000 11 15 *
RASTER_ORDER LEFT_RIGHT/TOP_BOTTOM *
BAND_ORGANIZATION "SINGLE FILE" *
BAND_CONTENT BLACK&WHITE *
BITS_PER_PIXEL 8 *
SAMPLES_AND_LINES 6094 7562 *
HORIZONTAL_DATUM NAD83 *
HORIZONTAL_COORDINATE_SYSTEM UTM *
COORDINATE_ZONE 10 *
HORIZONTAL_UNITS METERS *
HORIZONTAL_RESOLUTION 1.0 *
SECONDARY_HORIZONTAL_DATUM NAD27 *
XY_ORIGIN 478070.336 4365658.072 *
SECONDARY_XY_ORIGIN 478166.217 4365461.830 *
NATION US *
STATE CA *
NW_QUAD_CORNER_XY 478485.995 4365358.072 *
NE_QUAD_CORNER_XY 483864.501 4365345.027 *
SE_QUAD_CORNER_XY 483850.091 4358408.843 *
SW_QUAD_CORNER_XY 478466.782 4358421.881 *
SECONDARY_NW_QUAD_XY 478485.439 4365149.174 *
SECONDARY_NE_QUAD_XY 483864.085 4365136.130 *
SECONDARY_SE_QUAD_XY 483849.676 4358200.076 *
SECONDARY_SW_QUAD_XY 478466.226 4358213.114 *
RMSE_XY 0.30 *
IMAGE_SOURCE "BLACK AND WHITE FILM" *
SOURCE_IMAGE_ID "NAPP 10528 125" *
SOURCE_IMAGE_DATE 1998 8 24 *
SOURCE_IMAGE_ID "NAPP 10528 124" *
SOURCE_IMAGE_DATE 1998 8 24 *
SOURCE_IMAGE_ID "NAPP 10528 126" *
SOURCE_IMAGE_DATE 1998 8 24 *
SOURCE_IMAGE_ID "NAPP 10528 75" *
SOURCE_IMAGE_DATE 1998 8 24 *
SOURCE_IMAGE_ID "NAPP 10528 74" *
SOURCE_IMAGE_DATE 1998 8 24 *
SOURCE_IMAGE_ID "NAPP 10528 73" *
SOURCE_IMAGE_DATE 1998 8 24 *
SOURCE_DEM_DATE 2000 0 0 *
AGENCY "WESTERN MAPPING CENTER (WMC)" *
PRODUCER "USDA FS GEOSPATIAL SERVICE AND TECHNOLOGY CENTER" *
PRODUCTION_SYSTEM "ORBIT OR_RECTIFY V.5.2" *
STANDARD_VERSION 1996 12 *
METADATA_DATE 2000 11 14 *
DATA_FILE_SIZE 46088922 *
BYTE_COUNT 6094 * * * * * * * * * * * * * * * * * * * * * * * *
END_USGS_HEADER *
