BEGIN_USGS_DOQ_HEADER *
QUADRANGLE_NAME "WILLITS" 3.45 or 7.5-min. name*
QUADRANT NE quadrant indicator if cell size = 3.75-minutes*
WEST_LONGITUDE -123 18 45.000 signed deg min sec SDDD MM SS.SSS*
EAST_LONGITUDE -123 15 0.000 signed deg min sec SDDD MM SS.SSS*
NORTH_LATITUDE 39 30 0.000 signed deg min sec SDDD MM SS.SSS*
SOUTH_LATITUDE 39 26 15.000 signed deg min sec SDDD MM SS.SSS*
PRODUCTION_DATE 1997 7 1 yyyy mm dd*
RASTER_ORDER LEFT_RIGHT/TOP_BOTTOM video display order*
BAND_ORGANIZATION "SINGLE FILE" single file or BSQ, or BIL or BIP*
BAND_CONTENT BLACK&WHITE black&white or red green blue*
BITS_PER_PIXEL 8 radiometric resolution*
SAMPLES_AND_LINES 6098 7569 number of columns and rows*
HORIZONTAL_DATUM NAD83 primary horizontal datum*
HORIZONTAL_COORDINATE_SYSTEM UTM *
COORDINATE_ZONE 10 coordinate system zone number*
HORIZONTAL_UNITS METERS coordinate system units*
HORIZONTAL_RESOLUTION 1.00 pixel horiz. ground sample distance*
SECONDARY_HORIZONTAL_DATUM NAD27 secondary horizontal datum*
XY_ORIGIN 472709.000 4372612.000 coord. of upper left pixel pri. datum*
SECONDARY_XY_ORIGIN 472804.806 4372415.749 coord upper left pixel sec datum*
NATION US nation code*
STATE CA state fip code*
NW_QUAD_CORNER_XY 473131.532 4372311.115 XY coords. of pri. NW quad corner*
NE_QUAD_CORNER_XY 478505.233 4372294.336 XY coords. of pri. NE quad corner*
SE_QUAD_CORNER_XY 478485.995 4365358.071 XY coords. of pri. SE quad corner*
SW_QUAD_CORNER_XY 473107.484 4365374.843 XY coords. of pri. SW quad corner*
SECONDARY_NW_QUAD_XY 473130.835 4372102.089 XY coords. - sec. NW quad cor.*
SECONDARY_NE_QUAD_XY 478504.676 4372085.310 XY coords. - sec. NE quad cor.*
SECONDARY_SE_QUAD_XY 478485.438 4365149.175 XY coords. - sec. SE quad cor.*
SECONDARY_SW_QUAD_XY 473106.788 4365165.947 XY coords. - sec. SW quad cor.*
RMSE_XY 3.80 doq horiz. accuracy*
IMAGE_SOURCE "BLACK AND WHITE FILM" b&w, cir, natural color, other*
SOURCE_IMAGE_ID "NAPP 6363 032" source image id*
SOURCE_IMAGE_DATE 1993 7 12 source image date as yyyy mm dd*
IMAGE_SOURCE "BLACK AND WHITE FILM" b&w, cir, natural color, other*
SOURCE_IMAGE_ID "NAPP 6363 033" source image id*
SOURCE_IMAGE_DATE 1993 7 12 source image date as yyyy mm dd*
SOURCE_DEM_DATE 1997 7 1 source dem date yyyy mm dd*
AGENCY "WESTERN MAPPING CENTER (WMC)" oversight agency*
PRODUCER "Science Applications International" producer/contractor*
PRODUCTION_SYSTEM "GIS/MAGIC" production system*
STANDARD_VERSION 1996 12 version of DOQ standard*
METADATA_DATE 1997 12 30 date created or changed, yyyy mm dd*
DATA_FILE_SIZE 46161860 data set size in bytes*
BYTE_COUNT 6098 header byte count* * * * * * * * * * * * * * * * * * * * * * * * * * * * * * *
END_USGS_HEADER *
